BEGIN:VCALENDAR
VERSION:2.0
PRODID:-//Pfarreiengemeinschaft Peissenberg-Forst - ECPv6.15.20//NONSGML v1.0//EN
CALSCALE:GREGORIAN
METHOD:PUBLISH
X-ORIGINAL-URL:https://www.peifo.de
X-WR-CALDESC:Veranstaltungen für Pfarreiengemeinschaft Peissenberg-Forst
REFRESH-INTERVAL;VALUE=DURATION:PT1H
X-Robots-Tag:noindex
X-PUBLISHED-TTL:PT1H
BEGIN:VTIMEZONE
TZID:Europe/Berlin
BEGIN:DAYLIGHT
TZOFFSETFROM:+0100
TZOFFSETTO:+0200
TZNAME:CEST
DTSTART:20220327T010000
END:DAYLIGHT
BEGIN:STANDARD
TZOFFSETFROM:+0200
TZOFFSETTO:+0100
TZNAME:CET
DTSTART:20221030T010000
END:STANDARD
BEGIN:DAYLIGHT
TZOFFSETFROM:+0100
TZOFFSETTO:+0200
TZNAME:CEST
DTSTART:20230326T010000
END:DAYLIGHT
BEGIN:STANDARD
TZOFFSETFROM:+0200
TZOFFSETTO:+0100
TZNAME:CET
DTSTART:20231029T010000
END:STANDARD
BEGIN:DAYLIGHT
TZOFFSETFROM:+0100
TZOFFSETTO:+0200
TZNAME:CEST
DTSTART:20240331T010000
END:DAYLIGHT
BEGIN:STANDARD
TZOFFSETFROM:+0200
TZOFFSETTO:+0100
TZNAME:CET
DTSTART:20241027T010000
END:STANDARD
END:VTIMEZONE
BEGIN:VEVENT
DTSTART;VALUE=DATE:20230530
DTEND;VALUE=DATE:20230610
DTSTAMP:20260420T080104
CREATED:20230524T190938Z
LAST-MODIFIED:20230524T190938Z
UID:12227-1685404800-1686355199@www.peifo.de
SUMMARY:Öffnungszeiten des Pfarrbüros der Pfarreiengemeinschaft in den Pfingsferien
DESCRIPTION:In den Pfingstferien ist das Pfarrbüro der Pfarreiengemeinschaft in Peißenberg nachmittags nicht besetzt.
URL:https://www.peifo.de/event/oeffnungszeiten-des-pfarrbueros-der-pfarreiengemeinschaft-in-den-pfingsferien/
CATEGORIES:PG-übergreifend
END:VEVENT
BEGIN:VEVENT
DTSTART;TZID=Europe/Berlin:20230602T193000
DTEND;TZID=Europe/Berlin:20230602T193000
DTSTAMP:20260420T080104
CREATED:20230527T141333Z
LAST-MODIFIED:20230527T141423Z
UID:12279-1685734200-1685734200@www.peifo.de
SUMMARY:Ökumenisches Friedensgebet
DESCRIPTION:Am Freitag\, 2. Juni findet das nächste Ökumenische Friedensgebet der Pfarreiengemeinschaft im Rahmen der liturgischen Veranstaltung „Wortklang“ um 19.30 Uhr in Forst/St. Leonhard statt. Danach sind alle Besucher zu einer Begegnung ins Pfarrheim Forst eingeladen.
URL:https://www.peifo.de/event/oekumenisches-friedensgebet-10/
LOCATION:Forst/St. Leonard
CATEGORIES:PG-übergreifend
ATTACH;FMTTYPE=image/png:https://www.peifo.de/wp-content/uploads/2019/11/Ökumene-Peißenberg.png
END:VEVENT
BEGIN:VEVENT
DTSTART;TZID=Europe/Berlin:20230602T193000
DTEND;TZID=Europe/Berlin:20230602T203000
DTSTAMP:20260420T080104
CREATED:20230524T190439Z
LAST-MODIFIED:20230524T190439Z
UID:12221-1685734200-1685737800@www.peifo.de
SUMMARY:"Friede ist allweg in Gott"
DESCRIPTION:Zur musikalischen Andacht  „Friede ist allweg in Gott“ am Freitag\, 02. Juni 2023 um 19.30 Uhr laden wir herzlich mit Texten und Liedern im Zeichen des Friedens und zur anschließenden Begegnung im Pfarrheim ein! \nAuf Euer Kommen freuen wir uns! \nFamilienkreis Forst (Wort) und Fam. Bösl /Finsterwalder (Klang – Neue Geistliche Lieder)
URL:https://www.peifo.de/event/friede-ist-allweg-in-gott/
LOCATION:Kirche St. Leonhard/Forst
CATEGORIES:PG-übergreifend
ATTACH;FMTTYPE=application/pdf:https://www.peifo.de/wp-content/uploads/2023/05/Plakat-1-2.pdf
END:VEVENT
BEGIN:VEVENT
DTSTART;TZID=Europe/Berlin:20230608T084500
DTEND;TZID=Europe/Berlin:20230611T084500
DTSTAMP:20260420T080104
CREATED:20230527T142210Z
LAST-MODIFIED:20230527T142210Z
UID:12289-1686213900-1686473100@www.peifo.de
SUMMARY:Fronleichnamsprozessionen in der Pfarreiengemeinschaft Peißenberg/Forst
DESCRIPTION:Die Fronleichnamsprozessionen in der Pfarreiengemeinschaft Peißenberg/Forst finden an folgenden Tagen statt: Donnerstag\, 8. Juni (Fronleichnamstag) in St. Johann – Beginn um 8.45 Uhr mit einem Festgottesdienst mit anschließender Prozession und am Sonntag\, 11. Juni in Forst/St. Leonhard – Beginn um 8.45 Uhr mit einem Festgottesdienst mit anschließender Prozession. Zu beiden Veranstaltungen sind alle Pfarrangehörige recht herzlich eingeladen. \n 
URL:https://www.peifo.de/event/fronleichnamsprozessionen-in-der-pfarreiengemeinschaft-peissenberg-forst/
LOCATION:Peißenberg St. Johann und Forst/St. Leonhard
CATEGORIES:PG-übergreifend
ATTACH;FMTTYPE=image/jpeg:https://www.peifo.de/wp-content/uploads/2020/06/bild_fronl.jpg
END:VEVENT
BEGIN:VEVENT
DTSTART;TZID=Europe/Berlin:20230611T113000
DTEND;TZID=Europe/Berlin:20230611T170000
DTSTAMP:20260420T080104
CREATED:20230601T200544Z
LAST-MODIFIED:20230601T201153Z
UID:12314-1686483000-1686502800@www.peifo.de
SUMMARY:Familienfest nach der Fronleichnamsrozession am 11.06.2023
DESCRIPTION:Zum Familienfest nach der Fronleichnamsprozession in St. Leonhard am 11.06.2023 ergeht eine herzliche Einladung an Alle! Es laden auch heuer wieder der Veteranen- und Reservistenverein Forst gemeinsam mit dem Förderverein für bildende Einrichtungen in Forst ein.
URL:https://www.peifo.de/event/familienfest-nach-der-fronleichnamsrozession-am-11-06-2023/
LOCATION:Forst-Linden
CATEGORIES:PG-übergreifend
ATTACH;FMTTYPE=image/jpeg:https://www.peifo.de/wp-content/uploads/2023/06/Familienfest-2023.jpg
END:VEVENT
BEGIN:VEVENT
DTSTART;TZID=Europe/Berlin:20230613T200000
DTEND;TZID=Europe/Berlin:20230613T200000
DTSTAMP:20260420T080104
CREATED:20230525T140556Z
LAST-MODIFIED:20230525T140854Z
UID:12247-1686686400-1686686400@www.peifo.de
SUMMARY:Sitzung Pastoralrat
DESCRIPTION:
URL:https://www.peifo.de/event/sitzung-pastoralrat/
LOCATION:Pfarrheim St. Johann
CATEGORIES:PG-übergreifend
END:VEVENT
BEGIN:VEVENT
DTSTART;TZID=Europe/Berlin:20230614T200000
DTEND;TZID=Europe/Berlin:20230614T200000
DTSTAMP:20260420T080104
CREATED:20230525T141112Z
LAST-MODIFIED:20230525T141139Z
UID:12250-1686772800-1686772800@www.peifo.de
SUMMARY:Bibelgruppe im Pfarrheim
DESCRIPTION:Bild: Klaus Kegebein\, in: Pfarrbriefservice.de
URL:https://www.peifo.de/event/bibelgruppe-im-pfarrheim-3/
LOCATION:Pfarrheim St. Barbara\, Hans-Böckler-Str. 3\, Peißenberg\, 82380
CATEGORIES:PG-übergreifend
ATTACH;FMTTYPE=image/jpeg:https://www.peifo.de/wp-content/uploads/2019/10/BibelkreisIcon.jpg
END:VEVENT
BEGIN:VEVENT
DTSTART;TZID=Europe/Berlin:20230615T143000
DTEND;TZID=Europe/Berlin:20230615T143000
DTSTAMP:20260420T080104
CREATED:20221129T120259Z
LAST-MODIFIED:20230530T164754Z
UID:10821-1686839400-1686839400@www.peifo.de
SUMMARY:Seniorennachmittag - Steiermark
DESCRIPTION:Kommen Sie mit in die Steiermark und erleben Sie die schöne Landschaft im „Gesäuse“ rund um das Benediktinerkloster ADMONT. \nHerzliche Einladung an alle Interessierten – Eintritt ist frei! \nDie Veranstaltung findet im  im barrierefreien Pfarrsaal von St. Barbara statt. \n  \nVerantwortlich: Olga-Maria Brand und Team \nmehr: \nSenioren Juni 2023(PDF) \n  \n  \n  \n 
URL:https://www.peifo.de/event/seniorennachmittag-erlebnisse-in-mecklenburg-vorpommern/
LOCATION:Pfarrsaal St. Barbara\, Hans-Böckler-Str. 3\, Peißenberg\, 82380\, Deutschland
CATEGORIES:PG-übergreifend
END:VEVENT
BEGIN:VEVENT
DTSTART;TZID=Europe/Berlin:20230618T160000
DTEND;TZID=Europe/Berlin:20230618T160000
DTSTAMP:20260420T080104
CREATED:20230525T141338Z
LAST-MODIFIED:20230525T141338Z
UID:12253-1687104000-1687104000@www.peifo.de
SUMMARY:Volks-Chor „Auf a Stund“
DESCRIPTION:
URL:https://www.peifo.de/event/volks-chor-auf-a-stund/
LOCATION:Pfarrheim St. Johann
CATEGORIES:PG-übergreifend
ATTACH;FMTTYPE=image/jpeg:https://www.peifo.de/wp-content/uploads/2019/05/volkschorPeissenberg.jpg
END:VEVENT
BEGIN:VEVENT
DTSTART;TZID=Europe/Berlin:20230622T120000
DTEND;TZID=Europe/Berlin:20230622T180000
DTSTAMP:20260420T080104
CREATED:20230524T191902Z
LAST-MODIFIED:20230524T191902Z
UID:12230-1687435200-1687456800@www.peifo.de
SUMMARY:Ausflug des Frauenbund St. Johann
DESCRIPTION:Der Frauenbund St. Johann lädt ein zum Halbtagesausflug am Donnerstag\, 22.06.2023 zur Kreszentiakapelle in Dienhausen mit anschließendem Kaffeetrinken im Cafe „Oafach-Schee“ in Hohenfurch. Abfahrt: 12.00 Uhr an den bekannten Haltestellen\, 12.15 Uhr am Feuerwehrhaus. Kosten für die Busfahrt ca. 12\,– Euro. Anmeldungen bis spätestens 15.06. bei Heidi Ehle (Tel: 08803/3101).
URL:https://www.peifo.de/event/ausflug-des-frauenbund-st-johann/
CATEGORIES:PG-übergreifend
END:VEVENT
BEGIN:VEVENT
DTSTART;TZID=Europe/Berlin:20230625T093000
DTEND;TZID=Europe/Berlin:20230625T120000
DTSTAMP:20260420T080104
CREATED:20230618T124606Z
LAST-MODIFIED:20230618T124606Z
UID:12406-1687685400-1687694400@www.peifo.de
SUMMARY:Patrozinium in St. Johann
DESCRIPTION:Am kommenden Sonntag\, 25. Juni steht das Patrozinium der Kirche St. Johann an. Aus diesem Anlass findet um 9.30 Uhr ein Festgottesdienst mit Chor und Orchester in St. Johann statt. Die Gottesdienste an diesem Sonntag um 10.30 Uhr in St. Barbara und um 19.00 Uhr in St. Johann entfallen. \nBei schönem\, sicherem Wetter sind alle Pfarrangehörigen nach dem Gottesdienst zu einem Frühschoppen in den Pfarrgarten St. Johann eingeladen.
URL:https://www.peifo.de/event/patrozinium-in-st-johann-2/
LOCATION:Kirche St. Johann\, Hauptstraße 7\, Peißenberg\, 82380\, Deutschland
CATEGORIES:PG-übergreifend
END:VEVENT
END:VCALENDAR