BEGIN:VCALENDAR
VERSION:2.0
PRODID:-//Pfarreiengemeinschaft Peissenberg-Forst - ECPv6.15.20//NONSGML v1.0//EN
CALSCALE:GREGORIAN
METHOD:PUBLISH
X-ORIGINAL-URL:https://www.peifo.de
X-WR-CALDESC:Veranstaltungen für Pfarreiengemeinschaft Peissenberg-Forst
REFRESH-INTERVAL;VALUE=DURATION:PT1H
X-Robots-Tag:noindex
X-PUBLISHED-TTL:PT1H
BEGIN:VTIMEZONE
TZID:Europe/Berlin
BEGIN:DAYLIGHT
TZOFFSETFROM:+0100
TZOFFSETTO:+0200
TZNAME:CEST
DTSTART:20220327T010000
END:DAYLIGHT
BEGIN:STANDARD
TZOFFSETFROM:+0200
TZOFFSETTO:+0100
TZNAME:CET
DTSTART:20221030T010000
END:STANDARD
BEGIN:DAYLIGHT
TZOFFSETFROM:+0100
TZOFFSETTO:+0200
TZNAME:CEST
DTSTART:20230326T010000
END:DAYLIGHT
BEGIN:STANDARD
TZOFFSETFROM:+0200
TZOFFSETTO:+0100
TZNAME:CET
DTSTART:20231029T010000
END:STANDARD
BEGIN:DAYLIGHT
TZOFFSETFROM:+0100
TZOFFSETTO:+0200
TZNAME:CEST
DTSTART:20240331T010000
END:DAYLIGHT
BEGIN:STANDARD
TZOFFSETFROM:+0200
TZOFFSETTO:+0100
TZNAME:CET
DTSTART:20241027T010000
END:STANDARD
END:VTIMEZONE
BEGIN:VEVENT
DTSTART;TZID=Europe/Berlin:20230804T190000
DTEND;TZID=Europe/Berlin:20230804T190000
DTSTAMP:20260422T103652
CREATED:20230725T091443Z
LAST-MODIFIED:20230725T093426Z
UID:12594-1691175600-1691175600@www.peifo.de
SUMMARY:Ökumenisches Friedensgebet an der Knappenkapelle
DESCRIPTION:
URL:https://www.peifo.de/event/oekumenisches-friedensgebet-an-der-knappenkapelle/
LOCATION:Knappenkapelle
CATEGORIES:PG-übergreifend
ATTACH;FMTTYPE=image/png:https://www.peifo.de/wp-content/uploads/2019/11/Ökumene-Peißenberg.png
END:VEVENT
BEGIN:VEVENT
DTSTART;TZID=Europe/Berlin:20230811T193000
DTEND;TZID=Europe/Berlin:20230811T193000
DTSTAMP:20260422T103652
CREATED:20230727T090207Z
LAST-MODIFIED:20230727T090207Z
UID:12617-1691782200-1691782200@www.peifo.de
SUMMARY:Musikalische Andacht WortKlang
DESCRIPTION:
URL:https://www.peifo.de/event/musikalische-andacht-wortklang/
LOCATION:Kirche St. Leonhard/Forst
CATEGORIES:PG-übergreifend
END:VEVENT
BEGIN:VEVENT
DTSTART;TZID=Europe/Berlin:20230814T140000
DTEND;TZID=Europe/Berlin:20230814T140000
DTSTAMP:20260422T103652
CREATED:20230727T085218Z
LAST-MODIFIED:20230727T085218Z
UID:12609-1692021600-1692021600@www.peifo.de
SUMMARY:Kräuterbuschenverkauf
DESCRIPTION:Der Frauenbund St. Johann organisiert wieder ein Kräuterbuschenbinden am 14.08.2023\num 14.00 Uhr im Pfarrgarten St. Johann. Blumen und Kräuterspenden bitte im\nPfarrgarten abgeben. Der Verkauf findet ab 16.00 Uhr nur im Pfarrgarten statt. Die\nSpenden kommen einem sozialen Zweck zu Gute.
URL:https://www.peifo.de/event/kraeuterbuschenverkauf-2/
LOCATION:Pfarrgarten St. Johann
CATEGORIES:PG-übergreifend
END:VEVENT
END:VCALENDAR