BEGIN:VCALENDAR
VERSION:2.0
PRODID:-//Pfarreiengemeinschaft Peissenberg-Forst - ECPv6.15.20//NONSGML v1.0//EN
CALSCALE:GREGORIAN
METHOD:PUBLISH
X-ORIGINAL-URL:https://www.peifo.de
X-WR-CALDESC:Veranstaltungen für Pfarreiengemeinschaft Peissenberg-Forst
REFRESH-INTERVAL;VALUE=DURATION:PT1H
X-Robots-Tag:noindex
X-PUBLISHED-TTL:PT1H
BEGIN:VTIMEZONE
TZID:Europe/Berlin
BEGIN:DAYLIGHT
TZOFFSETFROM:+0100
TZOFFSETTO:+0200
TZNAME:CEST
DTSTART:20220327T010000
END:DAYLIGHT
BEGIN:STANDARD
TZOFFSETFROM:+0200
TZOFFSETTO:+0100
TZNAME:CET
DTSTART:20221030T010000
END:STANDARD
BEGIN:DAYLIGHT
TZOFFSETFROM:+0100
TZOFFSETTO:+0200
TZNAME:CEST
DTSTART:20230326T010000
END:DAYLIGHT
BEGIN:STANDARD
TZOFFSETFROM:+0200
TZOFFSETTO:+0100
TZNAME:CET
DTSTART:20231029T010000
END:STANDARD
BEGIN:DAYLIGHT
TZOFFSETFROM:+0100
TZOFFSETTO:+0200
TZNAME:CEST
DTSTART:20240331T010000
END:DAYLIGHT
BEGIN:STANDARD
TZOFFSETFROM:+0200
TZOFFSETTO:+0100
TZNAME:CET
DTSTART:20241027T010000
END:STANDARD
END:VTIMEZONE
BEGIN:VEVENT
DTSTART;TZID=Europe/Berlin:20230901T190000
DTEND;TZID=Europe/Berlin:20230901T190000
DTSTAMP:20260422T121317
CREATED:20230725T093307Z
LAST-MODIFIED:20230725T093334Z
UID:12602-1693594800-1693594800@www.peifo.de
SUMMARY:Ökumenisches Friedensgebet im Schöpfungsgarten
DESCRIPTION:
URL:https://www.peifo.de/event/oekumenisches-friedensgebet-im-schoepfungsgarten/
LOCATION:Garten der Schöpfung bei der Kirche St. Johann
CATEGORIES:PG-übergreifend
ATTACH;FMTTYPE=image/png:https://www.peifo.de/wp-content/uploads/2019/11/Ökumene-Peißenberg.png
END:VEVENT
BEGIN:VEVENT
DTSTART;TZID=Europe/Berlin:20230914T143000
DTEND;TZID=Europe/Berlin:20230914T170000
DTSTAMP:20260422T121317
CREATED:20230831T155153Z
LAST-MODIFIED:20230831T155153Z
UID:12707-1694701800-1694710800@www.peifo.de
SUMMARY:Seniorennachmittag nach der Sommerpause
DESCRIPTION:Nach der Sommerpause laden wir wieder herzlich ein zum Seniorennachmittag\nder Pfarreiengemeinschaft Peissenberg-Forst am Donnerstag\, 14. Sept. 2023 \nDer Oberarzt der Orthopädie im Krankenhaus Weilheim\, Herr Dr. Marcel Ziegler\,\nkommt nach 5 Jahren wieder zu uns mit einem hochinteressanten Thema: \n„Robotik in der modernen Orthopädie“ \nViele Senioren befassen sich mit dem Thema: \nNeue Hüfte …?\nNeues Kniegelenk ..? \nKeine Angst davor! \nBeginn: um 14.30 Uhr mit Kaffee und Kuchen \nwo: Pfarrsaal von St. Barbara — Aufzug vorhanden! \nBei Bedarf bieten wir eine kostenlose Fahrgelegenheit an; rufen Sie an 3654 im Pfarrbüro oder 3170 bei Brand. \nIhr Team vom Seniorennachmittage erwartet Sie mit Freude!\nVerantwortlich für diese Nachmittage: Olga-Maria Brand mit Alma\, Anita\, Elisabeth\, Hanni\, Heidi\, Paula\, Petra\, Renate\, Resi.
URL:https://www.peifo.de/event/seniorennachmittag-nach-der-sommerpause/
LOCATION:Pfarrheim St. Barbara\, Hans-Böckler-Str. 3\, Peißenberg\, 82380
CATEGORIES:PG-übergreifend
ATTACH;FMTTYPE=application/pdf:https://www.peifo.de/wp-content/uploads/2023/08/Seniorennachmittag.pdf
END:VEVENT
BEGIN:VEVENT
DTSTART;TZID=Europe/Berlin:20230917T020000
DTEND;TZID=Europe/Berlin:20230917T120000
DTSTAMP:20260422T121317
CREATED:20230729T115620Z
LAST-MODIFIED:20230729T115955Z
UID:12627-1694916000-1694952000@www.peifo.de
SUMMARY:Herzliche Einladung zur Wieswallfahrt 2023
DESCRIPTION:Die Wies-Wallfahrt der Pfarrei St. Leonhard\, Forst\, findet bei jedem Wetter statt.  \nWer nicht zu Fuß gehen kann oder will\, kann auch mit dem Auto zur Wieskirche fahren und/oder gerne auch Fahrgemeinschaften bilden.  \nHerzlich eingeladen zum Mit-Gehen und Mit-Beten sind   alle Erstkommunionkinder\, und Firmlinge\, deren Geschwister und Eltern\,  alle Ministranten sowie  unsere  gesamte  Pfarreiengemeinschaft. \nWer möchte\, kann nach dem Wallfahrtsgottesdienst die Wallfahrt mit einem gemeinsamen geselligen Mittagessen ausklingen lassen. \nZur besseren Planung (Fahrgemeinschaften\, Mittagessen) möchten sich die Wallfahrer vorher telefonisch bei Leonhard Reßler\, Tel. 08809 /163 162\, sowie im Pfarrbüro Forst (per Email  PfarramtForst∂gmx.de oder während der Öffnungszeiten telefonisch 08809 / 295) bis spätestens 15.09.2023 melden.  Für Fragen und weitere Auskünfte gelten die gleichen Kontaktdaten. \nLeonhard Reßler\, \n Pfarrgemeinderat Pfarrei St. Leonhard\, Forst\, \nPG Peißenberg-Forst
URL:https://www.peifo.de/event/herzliche-einladung-zur-wieswallfahrt-2023/
CATEGORIES:PG-übergreifend
END:VEVENT
BEGIN:VEVENT
DTSTART;TZID=Europe/Berlin:20230924T190000
DTEND;TZID=Europe/Berlin:20230924T200000
DTSTAMP:20260422T121317
CREATED:20230917T101341Z
LAST-MODIFIED:20230917T101514Z
UID:12741-1695582000-1695585600@www.peifo.de
SUMMARY:Am Sonntag\, 24. September zwei Abendmessen - Jugendgottesdienst und Feier Kreiscaritas-Verband
DESCRIPTION:Am Sonntag\, 24. September finden aus besonderem Anlass um 19.00 Uhr zwei Gottesdienste statt: In St. Johann feiert der Kreiscaritas-Verband Weilheim eine Heilige Messe – ebenfalls um 19.00 Uhr sind alle interessierten Jugendlichen zu einem Gottesdienst nach Maria Aich eingeladen\, der von der Musikgruppe „Sound of Church“ aus Altenstadt mitgestaltet wird. Bei gutem Wetter gibt es danach noch die Gelegenheit zum Gespräch an einer Feuerschale.
URL:https://www.peifo.de/event/am-sonntag-24-september-zwei-abendmessen-jugendgottesdienst-und-feier-kreiscaritas-verband/
LOCATION:Kirchen in Peißenberg
CATEGORIES:PG-übergreifend
END:VEVENT
END:VCALENDAR