BEGIN:VCALENDAR
VERSION:2.0
PRODID:-//Pfarreiengemeinschaft Peissenberg-Forst - ECPv6.15.20//NONSGML v1.0//EN
CALSCALE:GREGORIAN
METHOD:PUBLISH
X-ORIGINAL-URL:https://www.peifo.de
X-WR-CALDESC:Veranstaltungen für Pfarreiengemeinschaft Peissenberg-Forst
REFRESH-INTERVAL;VALUE=DURATION:PT1H
X-Robots-Tag:noindex
X-PUBLISHED-TTL:PT1H
BEGIN:VTIMEZONE
TZID:Europe/Berlin
BEGIN:DAYLIGHT
TZOFFSETFROM:+0100
TZOFFSETTO:+0200
TZNAME:CEST
DTSTART:20220327T010000
END:DAYLIGHT
BEGIN:STANDARD
TZOFFSETFROM:+0200
TZOFFSETTO:+0100
TZNAME:CET
DTSTART:20221030T010000
END:STANDARD
BEGIN:DAYLIGHT
TZOFFSETFROM:+0100
TZOFFSETTO:+0200
TZNAME:CEST
DTSTART:20230326T010000
END:DAYLIGHT
BEGIN:STANDARD
TZOFFSETFROM:+0200
TZOFFSETTO:+0100
TZNAME:CET
DTSTART:20231029T010000
END:STANDARD
BEGIN:DAYLIGHT
TZOFFSETFROM:+0100
TZOFFSETTO:+0200
TZNAME:CEST
DTSTART:20240331T010000
END:DAYLIGHT
BEGIN:STANDARD
TZOFFSETFROM:+0200
TZOFFSETTO:+0100
TZNAME:CET
DTSTART:20241027T010000
END:STANDARD
END:VTIMEZONE
BEGIN:VEVENT
DTSTART;TZID=Europe/Berlin:20231001T103000
DTEND;TZID=Europe/Berlin:20231001T103000
DTSTAMP:20260424T102531
CREATED:20230923T071508Z
LAST-MODIFIED:20230923T071508Z
UID:12805-1696156200-1696156200@www.peifo.de
SUMMARY:Kinderkirche
DESCRIPTION:Am 1.10 findet um 10.30 Uhr in St. Johann eine Kinderkirche statt. Dazu sind alle Familien mit kleineren Kindern recht herzlich eingeladen.
URL:https://www.peifo.de/event/kinderkirche-7/
LOCATION:Kirche St. Johann\, Hauptstraße 7\, Peißenberg\, 82380\, Deutschland
CATEGORIES:PG-übergreifend
ATTACH;FMTTYPE=image/jpeg:https://www.peifo.de/wp-content/uploads/2021/09/Kinderkirche.jpg
END:VEVENT
BEGIN:VEVENT
DTSTART;TZID=Europe/Berlin:20231006T190000
DTEND;TZID=Europe/Berlin:20231006T190000
DTSTAMP:20260424T102531
CREATED:20230929T071239Z
LAST-MODIFIED:20230929T071239Z
UID:12847-1696618800-1696618800@www.peifo.de
SUMMARY:Taizegebet
DESCRIPTION:Am Freitag\, 6. Oktober findet um findet um 19.00 Uhr in Maria Aich wieder ein Taizegebet statt – in dem auch  die Gedanken des Ökumenischen Friedensgebet ihren Platz haben.
URL:https://www.peifo.de/event/taizegebet/
LOCATION:Kirche Maria Aich
CATEGORIES:PG-übergreifend
END:VEVENT
BEGIN:VEVENT
DTSTART;VALUE=DATE:20231007
DTEND;VALUE=DATE:20231201
DTSTAMP:20260424T102531
CREATED:20231007T173007Z
LAST-MODIFIED:20231007T173007Z
UID:12891-1696636800-1701388799@www.peifo.de
SUMMARY:Mit dem Ohr des Herzens - Ulrichsjubiläum 2023/2024
DESCRIPTION:Im Rahmen des Ulrichs-Jubiläums planen wir in unserer PG verschiedene Veranstaltungen und Aktionen. An der Beteiligung interessierte Gruppen haben noch die Möglichkeit\, sich im Pfarrbüro (Tel. 08803 /3654 oder 08809 / 295) anzumelden!
URL:https://www.peifo.de/event/mit-dem-ohr-des-herzens-ulrichsjubilaeum-2023-2024/
CATEGORIES:PG-übergreifend
ATTACH;FMTTYPE=image/jpeg:https://www.peifo.de/wp-content/uploads/2023/10/Grafik.jpg
END:VEVENT
BEGIN:VEVENT
DTSTART;TZID=Europe/Berlin:20231008T093000
DTEND;TZID=Europe/Berlin:20231008T093000
DTSTAMP:20260424T102531
CREATED:20230929T071039Z
LAST-MODIFIED:20230929T071039Z
UID:12843-1696757400-1696757400@www.peifo.de
SUMMARY:Gemeinschaftsgottesdienst der Pfarreiengemeinschaft
DESCRIPTION:Am Sonntag 8. Oktober wird um 9.30 Uhr in St. Johann Peißenberg der Gemeinschaftsgottesdienst der Pfarreiengemeinschaft gefeiert\, zu dem wir alle Pfarrangehörigen aus den drei Pfarreien recht herzlich einladen. An diesem Wochenende finden in Peißenberg deshalb keine weiteren Gottesdienste statt.
URL:https://www.peifo.de/event/gemeinschaftsgottesdienst-der-pfarreiengemeinschaft/
LOCATION:Kirche St. Johann\, Hauptstraße 7\, Peißenberg\, 82380\, Deutschland
CATEGORIES:PG-übergreifend
END:VEVENT
BEGIN:VEVENT
DTSTART;TZID=Europe/Berlin:20231012T143000
DTEND;TZID=Europe/Berlin:20231012T143000
DTSTAMP:20260424T102531
CREATED:20231003T103850Z
LAST-MODIFIED:20231003T103850Z
UID:12850-1697121000-1697121000@www.peifo.de
SUMMARY:Seniorennachmittag
DESCRIPTION:Sie sind herzlich eingeladen zu einem herbstlichen Nachmittag am Donnerstag\, 12. Oktober 2023  um 14.30 Uhr im Pfarrsaal St. Barbara. \nmehr: \nHerbstplakat 2023 Seniorennachmittag
URL:https://www.peifo.de/event/seniorennachmittag-8/
LOCATION:Pfarrsaal St. Barbara\, Hans-Böckler-Str. 3\, Peißenberg\, 82380\, Deutschland
CATEGORIES:PG-übergreifend
END:VEVENT
BEGIN:VEVENT
DTSTART;TZID=Europe/Berlin:20231013T193000
DTEND;TZID=Europe/Berlin:20231013T203000
DTSTAMP:20260424T102531
CREATED:20231007T170551Z
LAST-MODIFIED:20231007T170551Z
UID:12872-1697225400-1697229000@www.peifo.de
SUMMARY:Rosenkranz - Perlen des Lebens
DESCRIPTION:Wir laden herzlich ein zur Musikalischen Andacht \n„WortKlang“ mit dem Thema „Rosenkranz – Perlen des Lebens“ \nam 13. Oktober 2023 um 19.30 Uhr in der Kirche St. Leonhard in Forst \nMit Texten und Neuen Geistlichen Liedern zum Rosenkranzmonat \nTexte: Familienkreis Forst  / Musik: Fam. Bösl / Finsterwalder
URL:https://www.peifo.de/event/rosenkranz-perlen-des-lebens/
LOCATION:Kirche St. Leonhard/Forst
CATEGORIES:PG-übergreifend
ATTACH;FMTTYPE=application/pdf:https://www.peifo.de/wp-content/uploads/2023/10/Wortklang-13.102023.pdf
END:VEVENT
BEGIN:VEVENT
DTSTART;TZID=Europe/Berlin:20231014T090000
DTEND;TZID=Europe/Berlin:20231014T170000
DTSTAMP:20260424T102531
CREATED:20231007T173428Z
LAST-MODIFIED:20231007T173428Z
UID:12898-1697274000-1697302800@www.peifo.de
SUMMARY:Einkehrtag der Kommunionhelfer
DESCRIPTION:
URL:https://www.peifo.de/event/einkehrtag-der-kommunionhelfer/
LOCATION:Pfarrkirche St.Barbara
CATEGORIES:PG-übergreifend
END:VEVENT
BEGIN:VEVENT
DTSTART;TZID=Europe/Berlin:20231014T183000
DTEND;TZID=Europe/Berlin:20231014T183000
DTSTAMP:20260424T102531
CREATED:20230920T073736Z
LAST-MODIFIED:20231014T124612Z
UID:12779-1697308200-1697308200@www.peifo.de
SUMMARY:Suono Cantabile gestaltet Vorabendmesse -ABGESAGT!
DESCRIPTION:Suono Cantabile gestaltet am Sa. 14.10.2023 leider doch nicht die Vorabendmesse! \nWegen Krankheit wird vom Chor Suono Cantabile die Vorabenmesse leider am 14.01.23 nun doch nicht mit Gospels gestaltet werden können. \nWir bitten um Ihr Verständnis\, ein späterer Termin wird noch bekanntgegeben.
URL:https://www.peifo.de/event/suono-cantabile-getaltet-abendmesse/
LOCATION:Kirche St. Barbara
CATEGORIES:PG-übergreifend
ATTACH;FMTTYPE=image/jpeg:https://www.peifo.de/wp-content/uploads/2023/09/logo-jpeg.jpg
END:VEVENT
BEGIN:VEVENT
DTSTART;TZID=Europe/Berlin:20231014T193000
DTEND;TZID=Europe/Berlin:20231014T220000
DTSTAMP:20260424T102531
CREATED:20231007T171620Z
LAST-MODIFIED:20231007T171620Z
UID:12882-1697311800-1697320800@www.peifo.de
SUMMARY:Das Jubiläumskonzert – 30 Jahre Joyful People
DESCRIPTION:findet am Samstag\, 14.10.2023 im Haus der Vereine in Hohenpeißenberg statt. Beginn ist um 19.30 Uhr. Der Eintritt ist frei\, um Spenden für den Chor wird gebeten.
URL:https://www.peifo.de/event/das-jubilaeumskonzert-30-jahre-joyful-people/
CATEGORIES:PG-übergreifend
END:VEVENT
BEGIN:VEVENT
DTSTART;TZID=Europe/Berlin:20231015T140000
DTEND;TZID=Europe/Berlin:20231015T140000
DTSTAMP:20260424T102531
CREATED:20230916T100349Z
LAST-MODIFIED:20230923T132810Z
UID:12735-1697378400-1697378400@www.peifo.de
SUMMARY:Liturgie für Männer: Einladung zur Besinnung in der „Mitte des Jahres“
DESCRIPTION:Einladung zur Besinnung in der „Mitte des Jahres“\n„Männer auf dem Weg…!?“ \nIm Rahmen „Liturgie für Männer“ wandern wir heuer gemeinsam am \nSonntag\, 15. Oktober 2023 ab 14.00 Uhr in den Eibenwald (Richtung „Schlitten“) \n(Treffpunkt ist am Parkplatz des Gasthofes Eibenwald – Bitte Fahrgemeinschaften bilden) \n(Bei Regen findet die Wanderung nicht statt) \nBei unserer ca. 2 1/2-stündigen Führung durch den eher unbekannten westlichen Teil des Eibenwaldes wird uns Frau Haschler-Böckle in die Landschaft und Mythen dieses Bereiches entführen. Dabei haben wir die Möglichkeit\, unseren Gedanken nachzuspüren oder auch in der Ulrichskapelle einen Impuls zu hören. \nAnschließend sind alle Männer ganz herzlich eingeladen am geselligen Zusammensein im Gasthof Eibenwald teilzunehmen. Für alle „Nichtwanderer“ ist natürlich auch die spätere Anreise in Fahrgemeinschaften mit dem Auto möglich. Treffpunkt ist hier um ca. 17.30 Uhr am Gasthof Eibenwald. \nInfos und Anmeldung über: \n\nTrautmann Eugen 08803/4529\nGehrmann Erich 08803/9225\n\nEine Anmeldung zu dieser Wanderung ist auch im Pfarrbüro Peißenberg möglich. \n\n\nEinaldung zur Wanderung – In der Mitte des Jahres 2023
URL:https://www.peifo.de/event/liturgie-fuer-maenner-einladung-zur-besinnung-in-der-mitte-des-jahres/
LOCATION:Gasthaus Eibenwald
END:VEVENT
BEGIN:VEVENT
DTSTART;TZID=Europe/Berlin:20231016T193000
DTEND;TZID=Europe/Berlin:20231016T220000
DTSTAMP:20260424T102531
CREATED:20231007T173622Z
LAST-MODIFIED:20231007T173622Z
UID:12901-1697484600-1697493600@www.peifo.de
SUMMARY:Bibelteilen für Gremienangehörige
DESCRIPTION:
URL:https://www.peifo.de/event/bibelteilen-fuer-gremienangehoerige-2/
LOCATION:Pfarrheim St. Barbara\, Hans-Böckler-Str. 3\, Peißenberg\, 82380
CATEGORIES:PG-übergreifend
END:VEVENT
BEGIN:VEVENT
DTSTART;TZID=Europe/Berlin:20231018T163000
DTEND;TZID=Europe/Berlin:20231018T180000
DTSTAMP:20260424T102531
CREATED:20231007T173822Z
LAST-MODIFIED:20231007T173822Z
UID:12904-1697646600-1697652000@www.peifo.de
SUMMARY:Kaffeenachmittag mit Ehrungen des Frauenbund St. Barbara
DESCRIPTION:
URL:https://www.peifo.de/event/kaffeenachmittag-mit-ehrungen-des-frauenbund-st-barbara/
LOCATION:Pfarrheim St. Barbara\, Hans-Böckler-Str. 3\, Peißenberg\, 82380
CATEGORIES:PG-übergreifend
END:VEVENT
BEGIN:VEVENT
DTSTART;TZID=Europe/Berlin:20231018T200000
DTEND;TZID=Europe/Berlin:20231018T200000
DTSTAMP:20260424T102531
CREATED:20231013T081249Z
LAST-MODIFIED:20231013T081249Z
UID:12937-1697659200-1697659200@www.peifo.de
SUMMARY:Bibelkreis
DESCRIPTION:Am Mittwoch\, 18. Oktober trifft sich der Bibelkreis der Pfarreiengemeinschaft um 20.00 Uhr im Pfarrheim St. Barbara. Alle an der Bibel Interessierten sind dazu recht herzlich eingeladen.
URL:https://www.peifo.de/event/bibelkreis-3/
LOCATION:Pfarrheim St. Barbara\, Hans-Böckler-Str. 3\, Peißenberg\, 82380
CATEGORIES:PG-übergreifend
ATTACH;FMTTYPE=image/jpeg:https://www.peifo.de/wp-content/uploads/2019/10/BibelkreisIcon.jpg
END:VEVENT
BEGIN:VEVENT
DTSTART;TZID=Europe/Berlin:20231018T200000
DTEND;TZID=Europe/Berlin:20231018T220000
DTSTAMP:20260424T102531
CREATED:20231007T172129Z
LAST-MODIFIED:20231007T172129Z
UID:12887-1697659200-1697666400@www.peifo.de
SUMMARY:Bibelkreis
DESCRIPTION:Der Bibelkreis der Pfarreiengemeinschaft trifft sich nicht wie geplant am Mittwoch 11.10. \, sondern erst eine Woche später am Mittwoch 18.10. um 20.00 Uhr im Pfarrheim St. Barbara.
URL:https://www.peifo.de/event/bibelkreis-2/
LOCATION:Pfarrheim St. Barbara\, Hans-Böckler-Str. 3\, Peißenberg\, 82380
END:VEVENT
BEGIN:VEVENT
DTSTART;TZID=Europe/Berlin:20231020T190000
DTEND;TZID=Europe/Berlin:20231020T210000
DTSTAMP:20260424T102531
CREATED:20231007T174300Z
LAST-MODIFIED:20231007T174300Z
UID:12913-1697828400-1697835600@www.peifo.de
SUMMARY:Meditativer Tanz im Pfarrheim
DESCRIPTION:
URL:https://www.peifo.de/event/meditativer-tanz-im-pfarrheim-5/
LOCATION:Pfarrheim St. Barbara\, Hans-Böckler-Str. 3\, Peißenberg\, 82380
CATEGORIES:PG-übergreifend
END:VEVENT
BEGIN:VEVENT
DTSTART;TZID=Europe/Berlin:20231021T140000
DTEND;TZID=Europe/Berlin:20231021T170000
DTSTAMP:20260424T102531
CREATED:20231007T173225Z
LAST-MODIFIED:20231007T173909Z
UID:12895-1697896800-1697907600@www.peifo.de
SUMMARY:Jahreshauptversammlung Frauenbund St. Johann
DESCRIPTION:
URL:https://www.peifo.de/event/frauenbund-jahreshauptversammlung/
LOCATION:Pfarrheim St. Johann
END:VEVENT
BEGIN:VEVENT
DTSTART;VALUE=DATE:20231022
DTEND;VALUE=DATE:20231023
DTSTAMP:20260424T102531
CREATED:20231013T080940Z
LAST-MODIFIED:20231013T081106Z
UID:12927-1697932800-1698019199@www.peifo.de
SUMMARY:Weltmissions-Sonntag
DESCRIPTION:Am Sonntag\, 22. Oktober feiert die Kirche den „Weltmissions-Sonntag“. Die Kollekte aller Gottesdienste an diesem Wochenende geht an das Hilfswerk „Missio“\, dass  Einrichtungen vor allem in Afrika unterstützt. Um eine großzügige Spende wird gebeten. Aus Anlass des Weltmissions-Sonntag wird um 19.00 Uhr in St. Johann ein vom Kreis „Mission-Entwicklung- Frieden“ gestalteter Gottesdienst gefeiert\, der musikalisch vom Chor „Suono Cantabile“ umrahmt wird.\nNach allen Gottesdiensten am Sonntag werden „Fair-Gehandelte-Waren“ verkauft.
URL:https://www.peifo.de/event/weltmissions-sonntag-2/
LOCATION:Kirchen von Peißenberg und Forst
CATEGORIES:PG-übergreifend
END:VEVENT
BEGIN:VEVENT
DTSTART;TZID=Europe/Berlin:20231022T190000
DTEND;TZID=Europe/Berlin:20231022T190000
DTSTAMP:20260424T102531
CREATED:20230920T074514Z
LAST-MODIFIED:20230920T074514Z
UID:12790-1698001200-1698001200@www.peifo.de
SUMMARY:Suono Cantabile gestaltet Abendmesse
DESCRIPTION:Der Chor gestaltet die Abendmesse mit Gospels und Spirituals. Begleitet wird er von George Davis am Keyboard und Franz Wörsching am Baß.
URL:https://www.peifo.de/event/suono-cantabile-gestaltet-abendmesse/
LOCATION:Kirche St. Johann\, Hauptstraße 7\, Peißenberg\, 82380\, Deutschland
CATEGORIES:PG-übergreifend
ATTACH;FMTTYPE=image/jpeg:https://www.peifo.de/wp-content/uploads/2023/09/logo-jpeg.jpg
END:VEVENT
BEGIN:VEVENT
DTSTART;TZID=Europe/Berlin:20231026T200000
DTEND;TZID=Europe/Berlin:20231026T220000
DTSTAMP:20260424T102531
CREATED:20231007T174129Z
LAST-MODIFIED:20231007T174129Z
UID:12909-1698350400-1698357600@www.peifo.de
SUMMARY:Erster Elternabend in Peißenberg für Erstkommunioneltern
DESCRIPTION:
URL:https://www.peifo.de/event/erster-elternabend-in-peissenberg-fuer-erstkommunioneltern/
LOCATION:Pfarrheim St. Barbara\, Hans-Böckler-Str. 3\, Peißenberg\, 82380
CATEGORIES:PG-übergreifend
END:VEVENT
BEGIN:VEVENT
DTSTART;TZID=Europe/Berlin:20231027T140000
DTEND;TZID=Europe/Berlin:20231027T170000
DTSTAMP:20260424T102531
CREATED:20231007T170836Z
LAST-MODIFIED:20231007T172233Z
UID:12876-1698415200-1698426000@www.peifo.de
SUMMARY:Pfarbüro in Forst ausnahmsweise geschlossen
DESCRIPTION:Am Freitag\, den 27.10.2023\, muss das Pfarrbüro in St. Leonhard in Forst ausnahmsweise geschlossen bleiben!
URL:https://www.peifo.de/event/pfarbuero-in-forst-ausnahmsweise-geschlossen/
LOCATION:Pfarrbüro St. Leonhard
CATEGORIES:PG-übergreifend
END:VEVENT
BEGIN:VEVENT
DTSTART;TZID=Europe/Berlin:20231028T170000
DTEND;TZID=Europe/Berlin:20231028T170000
DTSTAMP:20260424T102531
CREATED:20231026T100338Z
LAST-MODIFIED:20231026T100338Z
UID:13010-1698512400-1698512400@www.peifo.de
SUMMARY:Kolpingjugend: Halloween-Aktion im Pfarrheim
DESCRIPTION:
URL:https://www.peifo.de/event/kolpingjugend-halloween-aktion-im-pfarrheim/
LOCATION:Pfarrheim St. Johann
CATEGORIES:PG-übergreifend
ATTACH;FMTTYPE=image/png:https://www.peifo.de/wp-content/uploads/2019/07/Kolpingjugend-e1570224963652.png
END:VEVENT
BEGIN:VEVENT
DTSTART;TZID=Europe/Berlin:20231031T143000
DTEND;TZID=Europe/Berlin:20231031T143000
DTSTAMP:20260424T102531
CREATED:20231026T100549Z
LAST-MODIFIED:20231026T100549Z
UID:13014-1698762600-1698762600@www.peifo.de
SUMMARY:Frauengesprächskreis Thema: „Von der Schönheit"
DESCRIPTION:
URL:https://www.peifo.de/event/frauengespraechskreis-thema-von-der-schoenheit/
LOCATION:Pfarrheim St. Johann
CATEGORIES:PG-übergreifend
END:VEVENT
END:VCALENDAR