BEGIN:VCALENDAR
VERSION:2.0
PRODID:-//Pfarreiengemeinschaft Peissenberg-Forst - ECPv6.15.20//NONSGML v1.0//EN
CALSCALE:GREGORIAN
METHOD:PUBLISH
X-WR-CALNAME:Pfarreiengemeinschaft Peissenberg-Forst
X-ORIGINAL-URL:https://www.peifo.de
X-WR-CALDESC:Veranstaltungen für Pfarreiengemeinschaft Peissenberg-Forst
REFRESH-INTERVAL;VALUE=DURATION:PT1H
X-Robots-Tag:noindex
X-PUBLISHED-TTL:PT1H
BEGIN:VTIMEZONE
TZID:Europe/Berlin
BEGIN:DAYLIGHT
TZOFFSETFROM:+0100
TZOFFSETTO:+0200
TZNAME:CEST
DTSTART:20220327T010000
END:DAYLIGHT
BEGIN:STANDARD
TZOFFSETFROM:+0200
TZOFFSETTO:+0100
TZNAME:CET
DTSTART:20221030T010000
END:STANDARD
BEGIN:DAYLIGHT
TZOFFSETFROM:+0100
TZOFFSETTO:+0200
TZNAME:CEST
DTSTART:20230326T010000
END:DAYLIGHT
BEGIN:STANDARD
TZOFFSETFROM:+0200
TZOFFSETTO:+0100
TZNAME:CET
DTSTART:20231029T010000
END:STANDARD
BEGIN:DAYLIGHT
TZOFFSETFROM:+0100
TZOFFSETTO:+0200
TZNAME:CEST
DTSTART:20240331T010000
END:DAYLIGHT
BEGIN:STANDARD
TZOFFSETFROM:+0200
TZOFFSETTO:+0100
TZNAME:CET
DTSTART:20241027T010000
END:STANDARD
END:VTIMEZONE
BEGIN:VEVENT
DTSTART;VALUE=DATE:20231007
DTEND;VALUE=DATE:20231201
DTSTAMP:20260424T120311
CREATED:20231007T173007Z
LAST-MODIFIED:20231007T173007Z
UID:12891-1696636800-1701388799@www.peifo.de
SUMMARY:Mit dem Ohr des Herzens - Ulrichsjubiläum 2023/2024
DESCRIPTION:Im Rahmen des Ulrichs-Jubiläums planen wir in unserer PG verschiedene Veranstaltungen und Aktionen. An der Beteiligung interessierte Gruppen haben noch die Möglichkeit\, sich im Pfarrbüro (Tel. 08803 /3654 oder 08809 / 295) anzumelden!
URL:https://www.peifo.de/event/mit-dem-ohr-des-herzens-ulrichsjubilaeum-2023-2024/
CATEGORIES:PG-übergreifend
ATTACH;FMTTYPE=image/jpeg:https://www.peifo.de/wp-content/uploads/2023/10/Grafik.jpg
END:VEVENT
BEGIN:VEVENT
DTSTART;TZID=Europe/Berlin:20231104T190000
DTEND;TZID=Europe/Berlin:20231104T190000
DTSTAMP:20260424T120311
CREATED:20231026T100700Z
LAST-MODIFIED:20231026T100739Z
UID:13017-1699124400-1699124400@www.peifo.de
SUMMARY:Filmabend für Firmlinge
DESCRIPTION:
URL:https://www.peifo.de/event/filmabend-fuer-firmlinge-2/
LOCATION:Pfarrheim St. Barbara\, Hans-Böckler-Str. 3\, Peißenberg\, 82380
CATEGORIES:PG-übergreifend
END:VEVENT
BEGIN:VEVENT
DTSTART;TZID=Europe/Berlin:20231105T103000
DTEND;TZID=Europe/Berlin:20231105T103000
DTSTAMP:20260424T120311
CREATED:20231027T101236Z
LAST-MODIFIED:20231027T101236Z
UID:13045-1699180200-1699180200@www.peifo.de
SUMMARY:Die Musikgruppe „Querbeet“ gestaltet Gottesdienst
DESCRIPTION:Am Sonntag\, 5. November umrahmt die Musikgruppe „Querbeet“ den Gottesdienst um 10.30 Uhr in St. Barbara. Dazu ergeht eine herzliche Einladung.
URL:https://www.peifo.de/event/die-musikgruppe-querbeet-gestaltet-gottesdienst/
LOCATION:Kirche St. Barbara
CATEGORIES:PG-übergreifend
END:VEVENT
BEGIN:VEVENT
DTSTART;TZID=Europe/Berlin:20231108T193000
DTEND;TZID=Europe/Berlin:20231108T193000
DTSTAMP:20260424T120311
CREATED:20231026T102225Z
LAST-MODIFIED:20231026T102225Z
UID:13030-1699471800-1699471800@www.peifo.de
SUMMARY:Bibelgruppe
DESCRIPTION:
URL:https://www.peifo.de/event/bibelgruppe-26/
LOCATION:Pfarrheim St. Barbara\, Hans-Böckler-Str. 3\, Peißenberg\, 82380
CATEGORIES:PG-übergreifend
ATTACH;FMTTYPE=image/jpeg:https://www.peifo.de/wp-content/uploads/2019/10/BibelkreisIcon.jpg
END:VEVENT
BEGIN:VEVENT
DTSTART;TZID=Europe/Berlin:20231108T193000
DTEND;TZID=Europe/Berlin:20231108T220000
DTSTAMP:20260424T120311
CREATED:20231020T111609Z
LAST-MODIFIED:20231025T183939Z
UID:12987-1699471800-1699480800@www.peifo.de
SUMMARY:Männer-Kirchen-Dämmerschoppen
DESCRIPTION:Die „Männerwanderung“ durch den Eibenwald Mitte Oktober musste wegen unsicherem Wetter entfallen. Als eine Ersatz-Aktion werden alle interessierten Männer zu einem „Männer-Dämmerschoppen“ eingeladen\, der am Mittwoch 8.11. ab 19.30 Uhr im Georgsraum der Krypta St. Barbara stattfindet. Der Eingang zum Georgsraum ist von der Sonnenstraße aus.\nBei Getränken und kleinen Knabbereien werden wir uns in Ruhe über „Gott\, Kirche und die Welt“ austauschen. Zur besseren Planung wird eine Anmeldung bis Montag\, 6.11. im Pfarrbüro (Tel: 3654) erbeten.
URL:https://www.peifo.de/event/maenner-kirchen-daemmerschoppen-2/
LOCATION:Begegnungsraum St. Georg (unter der Sakristei SB)
END:VEVENT
BEGIN:VEVENT
DTSTART;TZID=Europe/Berlin:20231109T143000
DTEND;TZID=Europe/Berlin:20231109T143000
DTSTAMP:20260424T120311
CREATED:20231026T100950Z
LAST-MODIFIED:20231026T100950Z
UID:13020-1699540200-1699540200@www.peifo.de
SUMMARY:Seniorennachmittag mit Herrn Pfarrer Fetsch und Bildern von der Nordsee
DESCRIPTION:
URL:https://www.peifo.de/event/seniorennachmittag-mit-herrn-pfarrer-fetsch-und-bildern-von-der-nordsee/
LOCATION:Pfarrheim St. Barbara\, Hans-Böckler-Str. 3\, Peißenberg\, 82380
CATEGORIES:PG-übergreifend
END:VEVENT
BEGIN:VEVENT
DTSTART;TZID=Europe/Berlin:20231109T150000
DTEND;TZID=Europe/Berlin:20231109T150000
DTSTAMP:20260424T120311
CREATED:20231026T101714Z
LAST-MODIFIED:20231026T101714Z
UID:13023-1699542000-1699542000@www.peifo.de
SUMMARY:Frauenbund SJ: Handarbeitstreffen
DESCRIPTION:
URL:https://www.peifo.de/event/frauenbund-sj-handarbeitstreffen/
LOCATION:Pfarrheim St. Johann
CATEGORIES:PG-übergreifend
END:VEVENT
BEGIN:VEVENT
DTSTART;TZID=Europe/Berlin:20231109T200000
DTEND;TZID=Europe/Berlin:20231109T200000
DTSTAMP:20260424T120311
CREATED:20231026T102026Z
LAST-MODIFIED:20231026T102026Z
UID:13027-1699560000-1699560000@www.peifo.de
SUMMARY:PGR-Sitzung
DESCRIPTION:
URL:https://www.peifo.de/event/pgr-sitzung/
LOCATION:Pfarrheim St. Barbara\, Hans-Böckler-Str. 3\, Peißenberg\, 82380
CATEGORIES:PG-übergreifend
END:VEVENT
BEGIN:VEVENT
DTSTART;TZID=Europe/Berlin:20231112T103000
DTEND;TZID=Europe/Berlin:20231112T103000
DTSTAMP:20260424T120311
CREATED:20231103T110057Z
LAST-MODIFIED:20231104T101343Z
UID:13121-1699785000-1699785000@www.peifo.de
SUMMARY:Gottesdienst mit "Bunt gemischt" und Kinderkirche
DESCRIPTION:Am kommenden Sonntag\, 12. November gestaltet die Gruppe „Bunt gemischt“ den Gottesdienst um 10.30 Uhr in St. Barbara. Gleichzeitig wird in St. Barbara in der Krypta eine Kinder-Kirche stattfinden. Kinder und Erwachsene beginnen gemeinsam um 10.30 Uhr in der Kirche. Dazu ergeht eine herzliche Einladung. \n  \n \nBunt gemischt
URL:https://www.peifo.de/event/gottesdienst-mit-bunt-gemischt-und-kinderkirche/
LOCATION:Kirche St. Barbara
CATEGORIES:PG-übergreifend
END:VEVENT
BEGIN:VEVENT
DTSTART;TZID=Europe/Berlin:20231115T190000
DTEND;TZID=Europe/Berlin:20231115T190000
DTSTAMP:20260424T120311
CREATED:20231026T084214Z
LAST-MODIFIED:20231026T084214Z
UID:13006-1700074800-1700074800@www.peifo.de
SUMMARY:Kirche der Zukunft - Podiumsdiskussion
DESCRIPTION:mehr: \nKirche der Zukunft 23(PDF)
URL:https://www.peifo.de/event/kirche-der-zukunft-podiumsdiskussion/
LOCATION:Evangelisches Gemeindehaus Peißenberg
CATEGORIES:PG-übergreifend
ATTACH;FMTTYPE=image/png:https://www.peifo.de/wp-content/uploads/2019/11/Ökumene-Peißenberg.png
END:VEVENT
BEGIN:VEVENT
DTSTART;TZID=Europe/Berlin:20231115T190000
DTEND;TZID=Europe/Berlin:20231115T190000
DTSTAMP:20260424T120311
CREATED:20231109T131402Z
LAST-MODIFIED:20231109T131402Z
UID:13170-1700074800-1700074800@www.peifo.de
SUMMARY:PGR: Filmabend anschl. Glaubensgespräch
DESCRIPTION:
URL:https://www.peifo.de/event/pgr-filmabend-anschl-glaubensgespraech/
LOCATION:Begegnungsraum St. Georg (unter der Sakristei SB)
CATEGORIES:PG-übergreifend
END:VEVENT
BEGIN:VEVENT
DTSTART;VALUE=DATE:20231117
DTEND;VALUE=DATE:20231119
DTSTAMP:20260424T120311
CREATED:20231109T131557Z
LAST-MODIFIED:20231109T131557Z
UID:13173-1700179200-1700351999@www.peifo.de
SUMMARY:Kripperlaufbau in der Pfarrkirche St. Johann
DESCRIPTION:
URL:https://www.peifo.de/event/kripperlaufbau-in-der-pfarrkirche-st-johann/
LOCATION:Pfarrkirche St. Johann
CATEGORIES:St. Johann
END:VEVENT
BEGIN:VEVENT
DTSTART;VALUE=DATE:20231118
DTEND;VALUE=DATE:20231120
DTSTAMP:20260424T120311
CREATED:20231109T131756Z
LAST-MODIFIED:20231109T131756Z
UID:13176-1700265600-1700438399@www.peifo.de
SUMMARY:Kolpingjugend: Übernachtungsaktion im Pfarrheim
DESCRIPTION:
URL:https://www.peifo.de/event/kolpingjugend-uebernachtungsaktion-im-pfarrheim/
LOCATION:Pfarrheim St. Johann
CATEGORIES:PG-übergreifend
ATTACH;FMTTYPE=image/png:https://www.peifo.de/wp-content/uploads/2019/07/Kolpingjugend-e1570224963652.png
END:VEVENT
BEGIN:VEVENT
DTSTART;TZID=Europe/Berlin:20231118T170000
DTEND;TZID=Europe/Berlin:20231118T170000
DTSTAMP:20260424T120311
CREATED:20231114T124205Z
LAST-MODIFIED:20231114T124205Z
UID:13219-1700326800-1700326800@www.peifo.de
SUMMARY:Lichterandacht zum Ulrichsjahr mit "Querbeet"
DESCRIPTION:
URL:https://www.peifo.de/event/lichterandacht-zum-ulrichsjahr-mit-querbeet/
LOCATION:Kirche St. Johann\, Hauptstraße 7\, Peißenberg\, 82380\, Deutschland
CATEGORIES:PG-übergreifend
END:VEVENT
BEGIN:VEVENT
DTSTART;VALUE=DATE:20231120
DTEND;VALUE=DATE:20231125
DTSTAMP:20260424T120311
CREATED:20231007T171243Z
LAST-MODIFIED:20231007T171716Z
UID:12879-1700438400-1700870399@www.peifo.de
SUMMARY:Familien helfen Familien
DESCRIPTION:Auch in diesem Jahr findet wieder die Weihnachtspäckchen-Aktion in der Zeit vom 20.11. bis 24.11.2023 statt. Genaueres wird im nächsten Kirchenanzeiger bekannt gegeben.
URL:https://www.peifo.de/event/familien-helfen-familien/
CATEGORIES:PG-übergreifend
END:VEVENT
BEGIN:VEVENT
DTSTART;TZID=Europe/Berlin:20231122T190000
DTEND;TZID=Europe/Berlin:20231122T190000
DTSTAMP:20260424T120311
CREATED:20231117T140639Z
LAST-MODIFIED:20231117T140639Z
UID:13229-1700679600-1700679600@www.peifo.de
SUMMARY:Ökumenischer Gottesdienst anlässlich des Buß- und Bettages
DESCRIPTION:Am Mittwoch\, 22. November findet anlässlich des Buß- und Bettages ein ökumenischer Gottesdienst in der Friedenskirche Peißenberg statt. Beginn ist um 19.00 Uhr. Dazu ergeht eine herzliche Einladung.
URL:https://www.peifo.de/event/oekumenischer-gottesdienst-anlaesslich-des-buss-und-bettages/
LOCATION:Evangelische Friedenskirche
CATEGORIES:PG-übergreifend
ATTACH;FMTTYPE=image/png:https://www.peifo.de/wp-content/uploads/2019/11/Ökumene-Peißenberg.png
END:VEVENT
BEGIN:VEVENT
DTSTART;TZID=Europe/Berlin:20231124T190000
DTEND;TZID=Europe/Berlin:20231124T190000
DTSTAMP:20260424T120311
CREATED:20231109T131916Z
LAST-MODIFIED:20231109T131916Z
UID:13179-1700852400-1700852400@www.peifo.de
SUMMARY:Meditativer Tanz im Pfarrheim
DESCRIPTION:
URL:https://www.peifo.de/event/meditativer-tanz-im-pfarrheim-6/
LOCATION:Pfarrheim St. Barbara\, Hans-Böckler-Str. 3\, Peißenberg\, 82380
CATEGORIES:PG-übergreifend
END:VEVENT
BEGIN:VEVENT
DTSTART;TZID=Europe/Berlin:20231124T190000
DTEND;TZID=Europe/Berlin:20231124T190000
DTSTAMP:20260424T120311
CREATED:20231109T132046Z
LAST-MODIFIED:20231109T132046Z
UID:13182-1700852400-1700852400@www.peifo.de
SUMMARY:Kapiteljahrtag in Prem
DESCRIPTION:
URL:https://www.peifo.de/event/kapiteljahrtag-in-prem/
LOCATION:Prem
CATEGORIES:PG-übergreifend
END:VEVENT
BEGIN:VEVENT
DTSTART;TZID=Europe/Berlin:20231125T190000
DTEND;TZID=Europe/Berlin:20231125T190000
DTSTAMP:20260424T120311
CREATED:20231109T131037Z
LAST-MODIFIED:20231109T131037Z
UID:13166-1700938800-1700938800@www.peifo.de
SUMMARY:Jugendgottesdienst in Polling
DESCRIPTION:Alle interessierten Jugendlichen (auch aus Peißenberg und Forst) sind am Samstag\,\n25.11 um 19.00 Uhr in die Kirche in Polling zu einem besonders gestalteten\nJugendgottesdienst eingeladen. Es gibt Lichteffekte in der Kirche\, Mitmach-Aktionen und\nnatürlich eine jugendgerechte musikalische Gestaltung. Im Anschluss daran wird auf dem\nKirchplatz weitergefeiert.\nMitfahrgelegenheit aus Peißenberg besteht um 18.30 Uhr ab Parkplatz Pfarrheim St.\nBarbara. Dazu ist eine Anmeldung im Pfarrbüro wichtig.
URL:https://www.peifo.de/event/jugendgottesdienst-in-polling/
LOCATION:Kirche Polling
CATEGORIES:PG-übergreifend
END:VEVENT
BEGIN:VEVENT
DTSTART;TZID=Europe/Berlin:20231126T160000
DTEND;TZID=Europe/Berlin:20231126T160000
DTSTAMP:20260424T120311
CREATED:20231109T132156Z
LAST-MODIFIED:20231109T132156Z
UID:13186-1701014400-1701014400@www.peifo.de
SUMMARY:Filmnachmittag für die Ministranten im Pfarrheim
DESCRIPTION:
URL:https://www.peifo.de/event/filmnachmittag-fuer-die-ministranten-im-pfarrheim/
LOCATION:Pfarrheim St. Johann
CATEGORIES:PG-übergreifend
END:VEVENT
BEGIN:VEVENT
DTSTART;TZID=Europe/Berlin:20231128T143000
DTEND;TZID=Europe/Berlin:20231128T143000
DTSTAMP:20260424T120311
CREATED:20231123T134113Z
LAST-MODIFIED:20231123T134113Z
UID:13286-1701181800-1701181800@www.peifo.de
SUMMARY:Frauengesprächskreis - Thema: „Zukunft braucht Herkunft“
DESCRIPTION:
URL:https://www.peifo.de/event/frauengespraechskreis-thema-zukunft-braucht-herkunft/
LOCATION:Pfarrheim St. Johann
CATEGORIES:PG-übergreifend
END:VEVENT
BEGIN:VEVENT
DTSTART;TZID=Europe/Berlin:20231128T193000
DTEND;TZID=Europe/Berlin:20231128T193000
DTSTAMP:20260424T120311
CREATED:20231123T134309Z
LAST-MODIFIED:20231123T134309Z
UID:13289-1701199800-1701199800@www.peifo.de
SUMMARY:Kolping: Ausschuss-Sitzung im Pfarrheim
DESCRIPTION:
URL:https://www.peifo.de/event/kolping-ausschuss-sitzung-im-pfarrheim-2/
LOCATION:Pfarrheim St. Johann
CATEGORIES:PG-übergreifend
ATTACH;FMTTYPE=image/png:https://www.peifo.de/wp-content/uploads/2019/06/kolping_logo.png
END:VEVENT
END:VCALENDAR