BEGIN:VCALENDAR
VERSION:2.0
PRODID:-//Pfarreiengemeinschaft Peissenberg-Forst - ECPv6.15.20//NONSGML v1.0//EN
CALSCALE:GREGORIAN
METHOD:PUBLISH
X-ORIGINAL-URL:https://www.peifo.de
X-WR-CALDESC:Veranstaltungen für Pfarreiengemeinschaft Peissenberg-Forst
REFRESH-INTERVAL;VALUE=DURATION:PT1H
X-Robots-Tag:noindex
X-PUBLISHED-TTL:PT1H
BEGIN:VTIMEZONE
TZID:Europe/Berlin
BEGIN:DAYLIGHT
TZOFFSETFROM:+0100
TZOFFSETTO:+0200
TZNAME:CEST
DTSTART:20220327T010000
END:DAYLIGHT
BEGIN:STANDARD
TZOFFSETFROM:+0200
TZOFFSETTO:+0100
TZNAME:CET
DTSTART:20221030T010000
END:STANDARD
BEGIN:DAYLIGHT
TZOFFSETFROM:+0100
TZOFFSETTO:+0200
TZNAME:CEST
DTSTART:20230326T010000
END:DAYLIGHT
BEGIN:STANDARD
TZOFFSETFROM:+0200
TZOFFSETTO:+0100
TZNAME:CET
DTSTART:20231029T010000
END:STANDARD
BEGIN:DAYLIGHT
TZOFFSETFROM:+0100
TZOFFSETTO:+0200
TZNAME:CEST
DTSTART:20240331T010000
END:DAYLIGHT
BEGIN:STANDARD
TZOFFSETFROM:+0200
TZOFFSETTO:+0100
TZNAME:CET
DTSTART:20241027T010000
END:STANDARD
END:VTIMEZONE
BEGIN:VEVENT
DTSTART;TZID=Europe/Berlin:20231203T103000
DTEND;TZID=Europe/Berlin:20231203T103000
DTSTAMP:20260424T132610
CREATED:20231124T123345Z
LAST-MODIFIED:20231124T123715Z
UID:13324-1701599400-1701599400@www.peifo.de
SUMMARY:Gottesdienst mit den neuen Erstkommunion-Kindern
DESCRIPTION:Am Sonntag\, 3. Dezember wird die Messe um 10.30 Uhr in St. Barbara zusammen mit den neuen Erstkommunion-Kindern gefeiert. Musikalisch umrahmt wird dieser Gottesdienst von der Gruppe „Ad Libitium“. Anschließend gibt es einen Glühwein Ausschank auf dem Kirchplatz.
URL:https://www.peifo.de/event/gottesdiernsdt-mit-den-neuen-erstkommunion-kindern/
LOCATION:Kirche St. Barbara
CATEGORIES:PG-übergreifend
ATTACH;FMTTYPE=image/jpeg:https://www.peifo.de/wp-content/uploads/2023/04/Erstkommunion-scaled-e1682757213305.jpg
END:VEVENT
BEGIN:VEVENT
DTSTART;TZID=Europe/Berlin:20231207T143000
DTEND;TZID=Europe/Berlin:20231207T143000
DTSTAMP:20260424T132610
CREATED:20231120T130130Z
LAST-MODIFIED:20231201T101255Z
UID:13277-1701959400-1701959400@www.peifo.de
SUMMARY:Adventlicher Seniorennachmittag
DESCRIPTION:
URL:https://www.peifo.de/event/adventlicher-seniorennachmittag/
LOCATION:Pfarrheim St. Barbara\, Hans-Böckler-Str. 3\, Peißenberg\, 82380
ATTACH;FMTTYPE=image/jpeg:https://www.peifo.de/wp-content/uploads/2019/11/13730_1_advent_by_hans_heindl_pfarrbriefservice-e1574587555986.jpg
END:VEVENT
BEGIN:VEVENT
DTSTART;TZID=Europe/Berlin:20231207T150000
DTEND;TZID=Europe/Berlin:20231207T150000
DTSTAMP:20260424T132610
CREATED:20231123T134520Z
LAST-MODIFIED:20231123T141714Z
UID:13292-1701961200-1701961200@www.peifo.de
SUMMARY:Frauenbund SJ: Handarbeitstreffen
DESCRIPTION:
URL:https://www.peifo.de/event/frauenbund-sj-handarbeitstreffen-2/
LOCATION:Pfarrheim St. Johann
CATEGORIES:St. Johann
END:VEVENT
BEGIN:VEVENT
DTSTART;TZID=Europe/Berlin:20231208T190000
DTEND;TZID=Europe/Berlin:20231208T190000
DTSTAMP:20260424T132610
CREATED:20231117T135838Z
LAST-MODIFIED:20231117T141124Z
UID:13223-1702062000-1702062000@www.peifo.de
SUMMARY:Nacht der Lichter (Ökumenisches Taize-Gebet)
DESCRIPTION:Am Freitag\, 8.Dezember feiern wir um 19.00 Uhr in der Krypta von St. Barbara wieder eine Nacht der Lichter (Ökumenisches Taize-Gebet). Die Lieder und Texte nehmen auch die Impulse des Peißenberger Friedensgebetes auf.
URL:https://www.peifo.de/event/nacht-der-lichter-oekumenisches-taize-gebet-2/
LOCATION:Krypta St. Barbara
CATEGORIES:PG-übergreifend
ATTACH;FMTTYPE=image/png:https://www.peifo.de/wp-content/uploads/2019/11/Ökumene-Peißenberg.png
END:VEVENT
BEGIN:VEVENT
DTSTART;TZID=Europe/Berlin:20231209T160000
DTEND;TZID=Europe/Berlin:20231209T160000
DTSTAMP:20260424T132610
CREATED:20231123T134816Z
LAST-MODIFIED:20231123T134816Z
UID:13295-1702137600-1702137600@www.peifo.de
SUMMARY:Kolpinggedenktag
DESCRIPTION:Beginn mit einem Wortgottesdienst.
URL:https://www.peifo.de/event/kolpinggedenktag-2/
LOCATION:Pfarrheim St. Barbara\, Hans-Böckler-Str. 3\, Peißenberg\, 82380
CATEGORIES:PG-übergreifend
ATTACH;FMTTYPE=image/png:https://www.peifo.de/wp-content/uploads/2019/06/kolping_logo.png
END:VEVENT
BEGIN:VEVENT
DTSTART;TZID=Europe/Berlin:20231210T103000
DTEND;TZID=Europe/Berlin:20231210T103000
DTSTAMP:20260424T132610
CREATED:20231123T142652Z
LAST-MODIFIED:20231201T101110Z
UID:13317-1702204200-1702204200@www.peifo.de
SUMMARY:Patrozinium in St. Barbara
DESCRIPTION:Patrozinium in St. Barbara am 10.12.2023 um 10.30 Uhr mit Knappenverein und Knappschaftskapelle. Im Anschluss daran verkaufen unsere Minis Kuchen zugunsten der bevorstehenden Ministrantenwallfahrt nach Rom. \nBild: Christian Schmitt; In: Pfarrbriefservice.de \n 
URL:https://www.peifo.de/event/patrozinium-in-st-barbara/
LOCATION:Kirche St. Barbara
CATEGORIES:PG-übergreifend
END:VEVENT
BEGIN:VEVENT
DTSTART;TZID=Europe/Berlin:20231210T103000
DTEND;TZID=Europe/Berlin:20231210T103000
DTSTAMP:20260424T132610
CREATED:20231201T103848Z
LAST-MODIFIED:20231201T103848Z
UID:13353-1702204200-1702204200@www.peifo.de
SUMMARY:Kinderkirche zum Thema "Der Weihnachtsstern"
DESCRIPTION:
URL:https://www.peifo.de/event/kinderkirche-zum-thema-der-weihnachtsstern/
LOCATION:Kirche St. Johann\, Hauptstraße 7\, Peißenberg\, 82380\, Deutschland
CATEGORIES:PG-übergreifend
ATTACH;FMTTYPE=image/jpeg:https://www.peifo.de/wp-content/uploads/2021/09/Kinderkirche.jpg
END:VEVENT
BEGIN:VEVENT
DTSTART;TZID=Europe/Berlin:20231210T170000
DTEND;TZID=Europe/Berlin:20231210T170000
DTSTAMP:20260424T132610
CREATED:20231129T103947Z
LAST-MODIFIED:20231129T103947Z
UID:13336-1702227600-1702227600@www.peifo.de
SUMMARY:Bayerisches Adventssingen
DESCRIPTION:
URL:https://www.peifo.de/event/bayerisches-adventssingen/
LOCATION:Kirche St. Johann\, Hauptstraße 7\, Peißenberg\, 82380\, Deutschland
CATEGORIES:PG-übergreifend
END:VEVENT
BEGIN:VEVENT
DTSTART;TZID=Europe/Berlin:20231212T143000
DTEND;TZID=Europe/Berlin:20231212T143000
DTSTAMP:20260424T132610
CREATED:20231207T143228Z
LAST-MODIFIED:20231207T143228Z
UID:13372-1702391400-1702391400@www.peifo.de
SUMMARY:Frauenbund SB: Adventfeier im Pfarrheim
DESCRIPTION:
URL:https://www.peifo.de/event/frauenbund-sb-adventfeier-im-pfarrheim/
LOCATION:Pfarrheim St. Barbara\, Hans-Böckler-Str. 3\, Peißenberg\, 82380
CATEGORIES:St. Barbara
END:VEVENT
BEGIN:VEVENT
DTSTART;TZID=Europe/Berlin:20231213T153000
DTEND;TZID=Europe/Berlin:20231213T153000
DTSTAMP:20260424T132610
CREATED:20231207T143440Z
LAST-MODIFIED:20231207T143440Z
UID:13375-1702481400-1702481400@www.peifo.de
SUMMARY:Erstes Sternsingertreffen im Pfarrheim
DESCRIPTION:
URL:https://www.peifo.de/event/erstes-sternsingertreffen-im-pfarrheim/
LOCATION:Pfarrheim St. Barbara\, Hans-Böckler-Str. 3\, Peißenberg\, 82380
CATEGORIES:PG-übergreifend
ATTACH;FMTTYPE=image/jpeg:https://www.peifo.de/wp-content/uploads/2023/01/Sternsinger-2023-4-scaled-e1673449939970.jpg
END:VEVENT
BEGIN:VEVENT
DTSTART;TZID=Europe/Berlin:20231213T190000
DTEND;TZID=Europe/Berlin:20231213T190000
DTSTAMP:20260424T132610
CREATED:20231121T130221Z
LAST-MODIFIED:20231207T144849Z
UID:13280-1702494000-1702494000@www.peifo.de
SUMMARY:Wie ein Stern in dunkler Nacht
DESCRIPTION:
URL:https://www.peifo.de/event/wie-ein-stern-in-dunkler-nacht/
LOCATION:Pfarrheim St. Barbara\, Hans-Böckler-Str. 3\, Peißenberg\, 82380
CATEGORIES:PG-übergreifend
ATTACH;FMTTYPE=image/png:https://www.peifo.de/wp-content/uploads/2023/11/Wie-ein-Stern-in-dunkler-Nacht.png
END:VEVENT
BEGIN:VEVENT
DTSTART;TZID=Europe/Berlin:20231213T193000
DTEND;TZID=Europe/Berlin:20231213T193000
DTSTAMP:20260424T132610
CREATED:20231207T145051Z
LAST-MODIFIED:20231207T145051Z
UID:13382-1702495800-1702495800@www.peifo.de
SUMMARY:Bibelgruppe
DESCRIPTION:
URL:https://www.peifo.de/event/bibelgruppe-27/
LOCATION:Pfarrheim St. Barbara\, Hans-Böckler-Str. 3\, Peißenberg\, 82380
CATEGORIES:PG-übergreifend
ATTACH;FMTTYPE=image/jpeg:https://www.peifo.de/wp-content/uploads/2019/10/BibelkreisIcon.jpg
END:VEVENT
BEGIN:VEVENT
DTSTART;TZID=Europe/Berlin:20231216T100000
DTEND;TZID=Europe/Berlin:20231216T100000
DTSTAMP:20260424T132610
CREATED:20231207T151251Z
LAST-MODIFIED:20231207T151251Z
UID:13419-1702720800-1702720800@www.peifo.de
SUMMARY:Weihnachtsfeier der Ministranten
DESCRIPTION:Beginn mit einer Andacht vor der Maria Aich-Kirche.
URL:https://www.peifo.de/event/weihnachtsfeier-der-ministranten/
LOCATION:Pfarrheim St. Johann
CATEGORIES:PG-übergreifend
ATTACH;FMTTYPE=image/png:https://www.peifo.de/wp-content/uploads/2019/08/gehen-farbe_by_christian-badel_pfarrbriefservice-q2.png
END:VEVENT
BEGIN:VEVENT
DTSTART;TZID=Europe/Berlin:20231217T160000
DTEND;TZID=Europe/Berlin:20231217T160000
DTSTAMP:20260424T132610
CREATED:20231208T151524Z
LAST-MODIFIED:20231208T151524Z
UID:13424-1702828800-1702828800@www.peifo.de
SUMMARY:Adventssingen des Trachtenvereins
DESCRIPTION:
URL:https://www.peifo.de/event/adventssingen-des-trachtenvereins/
LOCATION:Kirche St. Johann\, Hauptstraße 7\, Peißenberg\, 82380\, Deutschland
CATEGORIES:PG-übergreifend
ATTACH;FMTTYPE=image/jpeg:https://www.peifo.de/wp-content/uploads/2019/11/13730_1_advent_by_hans_heindl_pfarrbriefservice-e1574587555986.jpg
END:VEVENT
BEGIN:VEVENT
DTSTART;TZID=Europe/Berlin:20231222T160000
DTEND;TZID=Europe/Berlin:20231222T210000
DTSTAMP:20260424T132610
CREATED:20231206T115542Z
LAST-MODIFIED:20231222T175930Z
UID:13365-1703260800-1703278800@www.peifo.de
SUMMARY:Winterzauber - ABGESAGT!
DESCRIPTION:…musste leider aufgrund Sturm/schlechtem Wetter abgesagt werden – wir bitten um Ihr Verständnis.
URL:https://www.peifo.de/event/winterzauber/
LOCATION:Rathausplatz
CATEGORIES:PG-übergreifend
END:VEVENT
BEGIN:VEVENT
DTSTART;TZID=Europe/Berlin:20231222T190000
DTEND;TZID=Europe/Berlin:20231222T190000
DTSTAMP:20260424T132610
CREATED:20231207T145208Z
LAST-MODIFIED:20231207T145235Z
UID:13385-1703271600-1703271600@www.peifo.de
SUMMARY:Meditativer Tanz im Pfarrheim
DESCRIPTION:
URL:https://www.peifo.de/event/meditativer-tanz-im-pfarrheim-7/
LOCATION:Pfarrheim St. Barbara\, Hans-Böckler-Str. 3\, Peißenberg\, 82380
CATEGORIES:PG-übergreifend
END:VEVENT
BEGIN:VEVENT
DTSTART;TZID=Europe/Berlin:20231222T190000
DTEND;TZID=Europe/Berlin:20231222T190000
DTSTAMP:20260424T132610
CREATED:20231215T100125Z
LAST-MODIFIED:20231215T110707Z
UID:13452-1703271600-1703271600@www.peifo.de
SUMMARY:Adventlicher Bußgottesdienst
DESCRIPTION:Anschließend besteht die Möglichkeit zu einem persönlichen Beichtgespräch.
URL:https://www.peifo.de/event/adventlicher-bussgottesdienst-3/
LOCATION:Kirche St. Johann\, Hauptstraße 7\, Peißenberg\, 82380\, Deutschland
CATEGORIES:PG-übergreifend
END:VEVENT
BEGIN:VEVENT
DTSTART;TZID=Europe/Berlin:20231224T100000
DTEND;TZID=Europe/Berlin:20231224T150000
DTSTAMP:20260424T132610
CREATED:20231207T145426Z
LAST-MODIFIED:20231207T145458Z
UID:13388-1703412000-1703430000@www.peifo.de
SUMMARY:Kolpingjugend: Kinderbetreuung
DESCRIPTION:Kolpingjugend: Kinderbetreuung bis 15.00 Uhr im PH
URL:https://www.peifo.de/event/kolpingjugend-kinderbetreuung/
LOCATION:Pfarrheim St. Johann
CATEGORIES:PG-übergreifend
ATTACH;FMTTYPE=image/png:https://www.peifo.de/wp-content/uploads/2019/07/Kolpingjugend-e1570224963652.png
END:VEVENT
BEGIN:VEVENT
DTSTART;TZID=Europe/Berlin:20231224T103000
DTEND;TZID=Europe/Berlin:20231224T103000
DTSTAMP:20260424T132610
CREATED:20231215T102605Z
LAST-MODIFIED:20231215T102605Z
UID:13455-1703413800-1703413800@www.peifo.de
SUMMARY:Hl.Messe zum 4. Advent
DESCRIPTION:Am Sonntag\, 24. Dezember (Hl.Abend) wird um 10.30 Uhr die Hl.Messe zum 4. Advent in St. Barbara gefeiert.
URL:https://www.peifo.de/event/hl-messe-zum-4-advent/
LOCATION:Kirche St. Barbara
CATEGORIES:PG-übergreifend
END:VEVENT
BEGIN:VEVENT
DTSTART;TZID=Europe/Berlin:20231225T170000
DTEND;TZID=Europe/Berlin:20231225T170000
DTSTAMP:20260424T132610
CREATED:20231212T110547Z
LAST-MODIFIED:20231212T110618Z
UID:13437-1703523600-1703523600@www.peifo.de
SUMMARY:Kinderkirche "Waldweihnacht"
DESCRIPTION:
URL:https://www.peifo.de/event/kinderkirche-waldweihnacht-4/
LOCATION:Moosleitenparkplatz
CATEGORIES:PG-übergreifend
ATTACH;FMTTYPE=image/jpeg:https://www.peifo.de/wp-content/uploads/2021/09/Kinderkirche.jpg
END:VEVENT
BEGIN:VEVENT
DTSTART;TZID=Europe/Berlin:20231227T183000
DTEND;TZID=Europe/Berlin:20231227T183000
DTSTAMP:20260424T132610
CREATED:20231215T110459Z
LAST-MODIFIED:20231218T120340Z
UID:13459-1703701800-1703701800@www.peifo.de
SUMMARY:„Brudermahl zwischen den Jahren“
DESCRIPTION:Die Männerseelsorge der Pfarreiengemeinschaft Peißenberg/Forst lädt am Mittwoch\, 27. 12 um 18.30 Uhr in die Krypta St. Barbara alle interessierten Männer zum traditionellen Brudermahl zwischen den Jahren ein. An diesem „Johannis-Tag“ wird auch bewusst der Wein gesegnet. Nach einer Andacht in der Krypta treffen sich die Männer im Raum neben der Krypta zur Weinsegnung und zu einem gemeinsamen Mahl. Dazu wird gebeten\, eine kleine Brotzeit (Wurst\, Brot…..) mitzubringen. \nWeitere Informationen finden Sie auf den ausgelegten Flyern und den Plakaten.
URL:https://www.peifo.de/event/brudermahl-zwischen-den-jahren-2/
LOCATION:Krypta St. Barbara
CATEGORIES:PG-übergreifend
END:VEVENT
BEGIN:VEVENT
DTSTART;TZID=Europe/Berlin:20231229T193000
DTEND;TZID=Europe/Berlin:20231229T203000
DTSTAMP:20260424T132610
CREATED:20231222T100743Z
LAST-MODIFIED:20231222T100743Z
UID:13492-1703878200-1703881800@www.peifo.de
SUMMARY:„Zwischen den Jahren - Raunächte“ - musikalische Andacht Wortklang...
DESCRIPTION:Wir laden herzlich ein zu einer Andacht mit Neuen Geistlichen Liedern durch die 12 Raunächte und zur anschließenden Begegnung am Glühweinstand der Landjugend. \nAuf Euer Kommen freuen wir uns. \nFreitag\, 29. Dezember 2023 um 19.30 Uhr \nWort: Familienkreis Forst\nKlang: Fam. Bösl /Finsterwalder
URL:https://www.peifo.de/event/zwischen-den-jahren-raunaechte-musikalische-andacht-wortklang/
LOCATION:Kirche St. Leonhard/Forst
CATEGORIES:PG-übergreifend
ATTACH;FMTTYPE=application/pdf:https://www.peifo.de/wp-content/uploads/2023/12/Wortklang-29.12.2023.pdf
END:VEVENT
END:VCALENDAR