BEGIN:VCALENDAR
VERSION:2.0
PRODID:-//Pfarreiengemeinschaft Peissenberg-Forst - ECPv6.15.20//NONSGML v1.0//EN
CALSCALE:GREGORIAN
METHOD:PUBLISH
X-WR-CALNAME:Pfarreiengemeinschaft Peissenberg-Forst
X-ORIGINAL-URL:https://www.peifo.de
X-WR-CALDESC:Veranstaltungen für Pfarreiengemeinschaft Peissenberg-Forst
REFRESH-INTERVAL;VALUE=DURATION:PT1H
X-Robots-Tag:noindex
X-PUBLISHED-TTL:PT1H
BEGIN:VTIMEZONE
TZID:Europe/Berlin
BEGIN:DAYLIGHT
TZOFFSETFROM:+0100
TZOFFSETTO:+0200
TZNAME:CEST
DTSTART:20230326T010000
END:DAYLIGHT
BEGIN:STANDARD
TZOFFSETFROM:+0200
TZOFFSETTO:+0100
TZNAME:CET
DTSTART:20231029T010000
END:STANDARD
BEGIN:DAYLIGHT
TZOFFSETFROM:+0100
TZOFFSETTO:+0200
TZNAME:CEST
DTSTART:20240331T010000
END:DAYLIGHT
BEGIN:STANDARD
TZOFFSETFROM:+0200
TZOFFSETTO:+0100
TZNAME:CET
DTSTART:20241027T010000
END:STANDARD
BEGIN:DAYLIGHT
TZOFFSETFROM:+0100
TZOFFSETTO:+0200
TZNAME:CEST
DTSTART:20250330T010000
END:DAYLIGHT
BEGIN:STANDARD
TZOFFSETFROM:+0200
TZOFFSETTO:+0100
TZNAME:CET
DTSTART:20251026T010000
END:STANDARD
END:VTIMEZONE
BEGIN:VEVENT
DTSTART;VALUE=DATE:20240202
DTEND;VALUE=DATE:20240203
DTSTAMP:20260424T172500
CREATED:20240126T093157Z
LAST-MODIFIED:20240126T093157Z
UID:13791-1706832000-1706832000@www.peifo.de
SUMMARY:Blasius-Segen
DESCRIPTION:Um den Lichtmess-Tag am 2.2. wird traditionell der Blasius-Segen gespendet. Bitte informieren sie sich im aktuellen Kirchenanzeiger über die Gottesdienste\, in denen sie diesen besonderen Segen empfangen können.
URL:https://www.peifo.de/event/blasius-segen/
LOCATION:Kirchen von Peißenberg und Forst
CATEGORIES:PG-übergreifend
ATTACH;FMTTYPE=image/jpeg:https://www.peifo.de/wp-content/uploads/2022/01/Blasiussegen-scaled-e1643365399542.jpg
END:VEVENT
BEGIN:VEVENT
DTSTART;TZID=Europe/Berlin:20240202T190000
DTEND;TZID=Europe/Berlin:20240202T190000
DTSTAMP:20260424T172500
CREATED:20240125T124630Z
LAST-MODIFIED:20240125T125211Z
UID:13749-1706900400-1706900400@www.peifo.de
SUMMARY:Ehrenamtsabend im Pfarrheim\, Beginn mit einer Andacht
DESCRIPTION:
URL:https://www.peifo.de/event/ehrenamtsabend-im-pfarrheim-beginn-mit-einer-andacht/
LOCATION:Pfarrheim St. Barbara\, Hans-Böckler-Str. 3\, Peißenberg\, 82380
CATEGORIES:PG-übergreifend
END:VEVENT
BEGIN:VEVENT
DTSTART;TZID=Europe/Berlin:20240203T100000
DTEND;TZID=Europe/Berlin:20240203T130000
DTSTAMP:20260424T172500
CREATED:20240115T111226Z
LAST-MODIFIED:20240115T111226Z
UID:13677-1706954400-1706965200@www.peifo.de
SUMMARY:Großer Secondhand Faschingsmarkt
DESCRIPTION:
URL:https://www.peifo.de/event/grosser-secondhand-faschingsmarkt/
LOCATION:Pfarrheim St. Johann
CATEGORIES:PG-übergreifend
ATTACH;FMTTYPE=image/png:https://www.peifo.de/wp-content/uploads/2024/01/Faschingsmarkt-2024-2.png
END:VEVENT
BEGIN:VEVENT
DTSTART;TZID=Europe/Berlin:20240203T173000
DTEND;TZID=Europe/Berlin:20240203T173000
DTSTAMP:20260424T172500
CREATED:20240125T124800Z
LAST-MODIFIED:20240125T124800Z
UID:13752-1706981400-1706981400@www.peifo.de
SUMMARY:Geistliche Zeit zum Firmstart im PH
DESCRIPTION:
URL:https://www.peifo.de/event/geistliche-zeit-zum-firmstart-im-ph/
LOCATION:Pfarrheim St. Barbara\, Hans-Böckler-Str. 3\, Peißenberg\, 82380
END:VEVENT
BEGIN:VEVENT
DTSTART;TZID=Europe/Berlin:20240208T143000
DTEND;TZID=Europe/Berlin:20240208T143000
DTSTAMP:20260424T172500
CREATED:20240125T125059Z
LAST-MODIFIED:20240203T111145Z
UID:13755-1707402600-1707402600@www.peifo.de
SUMMARY:Seniorennachmittag zum 10-jährigen Jubiläum mit Faschingsstimmung
DESCRIPTION:Am Donnerstag\, 8. Februar sind alle Senioren unserer Pfarreiengemeinschaft ab 14.30 Uhr zu einem Faschings-Treffen mit viel Stimmungsmusik ins Pfarrheim von St. Barbara eingeladen. Im Rahmen dieses Treffen wird auch das 10jährige Jubiläum gefeiert.
URL:https://www.peifo.de/event/seniorennachmittag-zum-10-jaehrigen-jubilaeum-mit-faschingsstimmung/
LOCATION:Pfarrheim St. Barbara\, Hans-Böckler-Str. 3\, Peißenberg\, 82380
CATEGORIES:PG-übergreifend
ATTACH;FMTTYPE=image/jpeg:https://www.peifo.de/wp-content/uploads/2022/11/Fasching.jpg
END:VEVENT
BEGIN:VEVENT
DTSTART;TZID=Europe/Berlin:20240209T193000
DTEND;TZID=Europe/Berlin:20240209T193000
DTSTAMP:20260424T172500
CREATED:20240126T093633Z
LAST-MODIFIED:20240204T141243Z
UID:13795-1707507000-1707507000@www.peifo.de
SUMMARY:Liturgische Feier „Wortklang“
DESCRIPTION:Am Freitag\, 9.2. um 19.30 Uhr findet in Forst/St. Leonhard wieder die liturgische Feier „Wortklang“ statt\, dieses Mal zum Thema „Mit dem Ohr des Herzens hören“. Dazu ergeht eine ganz herzliche Einladung.
URL:https://www.peifo.de/event/liturgische-feier-wortklang/
LOCATION:Kirche St. Leonhard/Forst
CATEGORIES:PG-übergreifend
ATTACH;FMTTYPE=application/pdf:https://www.peifo.de/wp-content/uploads/2024/01/Wortklang-09.02.2024.pdf
END:VEVENT
BEGIN:VEVENT
DTSTART;TZID=Europe/Berlin:20240216T190000
DTEND;TZID=Europe/Berlin:20240216T190000
DTSTAMP:20260424T172500
CREATED:20240131T104533Z
LAST-MODIFIED:20240131T104533Z
UID:13811-1708110000-1708110000@www.peifo.de
SUMMARY:Gottesdienst zum Valentinstag
DESCRIPTION:
URL:https://www.peifo.de/event/gottesdienst-zum-valentinstag-2/
LOCATION:Kirche St. Johann\, Hauptstraße 7\, Peißenberg\, 82380\, Deutschland
CATEGORIES:PG-übergreifend
ATTACH;FMTTYPE=image/png:https://www.peifo.de/wp-content/uploads/2023/02/Herz-Valentinstag.png
END:VEVENT
BEGIN:VEVENT
DTSTART;TZID=Europe/Berlin:20240218T180000
DTEND;TZID=Europe/Berlin:20240319T180000
DTSTAMP:20260424T172500
CREATED:20231228T122505Z
LAST-MODIFIED:20231228T123049Z
UID:13537-1708279200-1710871200@www.peifo.de
SUMMARY:Ökumenische Exerzitien im Alltag
DESCRIPTION:Anmeldeformular Exerzitien im Alltag 2024(PDF)
URL:https://www.peifo.de/event/oekumenische-exerzitien-im-alltag/
LOCATION:evangelisches Gemeindehaus Peißenberg oder Pfarrheim St.Barbara
CATEGORIES:PG-übergreifend
ATTACH;FMTTYPE=image/png:https://www.peifo.de/wp-content/uploads/2019/11/Ökumene-Peißenberg.png
END:VEVENT
BEGIN:VEVENT
DTSTART;TZID=Europe/Berlin:20240220T090000
DTEND;TZID=Europe/Berlin:20240220T090000
DTSTAMP:20260424T172500
CREATED:20240125T125618Z
LAST-MODIFIED:20240125T125618Z
UID:13774-1708419600-1708419600@www.peifo.de
SUMMARY:Einkehrtag mit Pfarrer Kretschmer Thema: „Mit dem Ohr des Herzens“
DESCRIPTION:Anmeldungen bis 13.02. bei Heidi Ehle (Tel: 3101)
URL:https://www.peifo.de/event/einkehrtag-mit-pfarrer-kretschmer-thema-mit-dem-ohr-des-herzens/
CATEGORIES:PG-übergreifend
END:VEVENT
BEGIN:VEVENT
DTSTART;TZID=Europe/Berlin:20240220T180000
DTEND;TZID=Europe/Berlin:20240220T180000
DTSTAMP:20260424T172500
CREATED:20240216T101148Z
LAST-MODIFIED:20240216T101148Z
UID:13887-1708452000-1708452000@www.peifo.de
SUMMARY:Exerzitien im Alltag
DESCRIPTION:
URL:https://www.peifo.de/event/exerzitien-im-alltag-13/
LOCATION:Pfarrheim St. Barbara\, Hans-Böckler-Str. 3\, Peißenberg\, 82380
CATEGORIES:PG-übergreifend
ATTACH;FMTTYPE=image/png:https://www.peifo.de/wp-content/uploads/2019/11/Ökumene-Peißenberg.png
END:VEVENT
BEGIN:VEVENT
DTSTART;TZID=Europe/Berlin:20240221T163000
DTEND;TZID=Europe/Berlin:20240221T163000
DTSTAMP:20260424T172500
CREATED:20240216T101430Z
LAST-MODIFIED:20240216T101430Z
UID:13890-1708533000-1708533000@www.peifo.de
SUMMARY:Firmlingstreffen
DESCRIPTION:
URL:https://www.peifo.de/event/firmlingstreffen/
LOCATION:Pfarrheim St. Barbara\, Hans-Böckler-Str. 3\, Peißenberg\, 82380
CATEGORIES:PG-übergreifend
END:VEVENT
BEGIN:VEVENT
DTSTART;TZID=Europe/Berlin:20240221T193000
DTEND;TZID=Europe/Berlin:20240221T193000
DTSTAMP:20260424T172500
CREATED:20240216T101554Z
LAST-MODIFIED:20240216T101554Z
UID:13893-1708543800-1708543800@www.peifo.de
SUMMARY:Bibelgruppe
DESCRIPTION:
URL:https://www.peifo.de/event/bibelgruppe-28/
LOCATION:Pfarrheim St. Barbara\, Hans-Böckler-Str. 3\, Peißenberg\, 82380
CATEGORIES:PG-übergreifend
ATTACH;FMTTYPE=image/jpeg:https://www.peifo.de/wp-content/uploads/2019/10/BibelkreisIcon.jpg
END:VEVENT
BEGIN:VEVENT
DTSTART;TZID=Europe/Berlin:20240222T171500
DTEND;TZID=Europe/Berlin:20240222T171500
DTSTAMP:20260424T172500
CREATED:20240216T101713Z
LAST-MODIFIED:20240216T101713Z
UID:13896-1708622100-1708622100@www.peifo.de
SUMMARY:Firmlingstreffen
DESCRIPTION:
URL:https://www.peifo.de/event/firmlingstreffen-2/
LOCATION:Pfarrheim St. Johann
CATEGORIES:PG-übergreifend
END:VEVENT
BEGIN:VEVENT
DTSTART;TZID=Europe/Berlin:20240223T190000
DTEND;TZID=Europe/Berlin:20240223T190000
DTSTAMP:20260424T172500
CREATED:20240216T104827Z
LAST-MODIFIED:20240216T104827Z
UID:13930-1708714800-1708714800@www.peifo.de
SUMMARY:„Ökumenisches Friedensgebet“
DESCRIPTION:Freitag\, 23. Februar findet aus Anlass des 2.Jahrestages des Kriegsbeginn in der Ukraine um 19.00 Uhr in der  Friedenskirche ein weiteres „Ökumenisches Friedensgebet“ statt. Der evangelische Lobpreis-Chor übernimmt dabei die musikalische Umrahmung.
URL:https://www.peifo.de/event/oekumenisches-friedensgebet-13/
LOCATION:Evangelische Friedenskirche
CATEGORIES:PG-übergreifend
ATTACH;FMTTYPE=image/png:https://www.peifo.de/wp-content/uploads/2019/11/Ökumene-Peißenberg.png
END:VEVENT
BEGIN:VEVENT
DTSTART;TZID=Europe/Berlin:20240223T200000
DTEND;TZID=Europe/Berlin:20240223T200000
DTSTAMP:20260424T172500
CREATED:20240210T110540Z
LAST-MODIFIED:20240210T110540Z
UID:13883-1708718400-1708718400@www.peifo.de
SUMMARY:Einladung zur Pfarrversammlung
DESCRIPTION:
URL:https://www.peifo.de/event/einladung-zur-pfarrversammlung/
LOCATION:Pfarrheim St. Barbara\, Hans-Böckler-Str. 3\, Peißenberg\, 82380
CATEGORIES:PG-übergreifend
ATTACH;FMTTYPE=image/jpeg:https://www.peifo.de/wp-content/uploads/2022/02/Pfarreiengemeinschaft-Symbol.jpg
END:VEVENT
BEGIN:VEVENT
DTSTART;TZID=Europe/Berlin:20240224T183000
DTEND;TZID=Europe/Berlin:20240224T183000
DTSTAMP:20260424T172500
CREATED:20240216T105044Z
LAST-MODIFIED:20240216T105044Z
UID:13933-1708799400-1708799400@www.peifo.de
SUMMARY:Liturgischen Angebot:  „30 Minuten für Gott“
DESCRIPTION:Am Samstag\, 24. Februar lädt die Männerschola zum liturgischen Angebot „30 Minuten für Gott“ ein. Beginn ist um 18.30 Uhr in der Krypta von St. Barbara. Neben Liedern\, sollen Texte\, Meditationen und Gebet diese Zeit begleiten.
URL:https://www.peifo.de/event/liturgischen-angebot-30-minuten-fuer-gott/
LOCATION:Krypta St. Barbara
CATEGORIES:PG-übergreifend
END:VEVENT
BEGIN:VEVENT
DTSTART;TZID=Europe/Berlin:20240225T103000
DTEND;TZID=Europe/Berlin:20240225T103000
DTSTAMP:20260424T172500
CREATED:20240209T145626Z
LAST-MODIFIED:20240209T145626Z
UID:13863-1708857000-1708857000@www.peifo.de
SUMMARY:Kinderkirche - Ulrichsjubiläum
DESCRIPTION:
URL:https://www.peifo.de/event/kinderkirche-ulrichsjubilaeum/
LOCATION:Krypta St. Barbara
CATEGORIES:PG-übergreifend
ATTACH;FMTTYPE=image/jpeg:https://www.peifo.de/wp-content/uploads/2019/12/Kinderkirche-e1576598832366.jpg
END:VEVENT
BEGIN:VEVENT
DTSTART;TZID=Europe/Berlin:20240225T190000
DTEND;TZID=Europe/Berlin:20240225T190000
DTSTAMP:20260424T172500
CREATED:20240125T130052Z
LAST-MODIFIED:20240209T093616Z
UID:13777-1708887600-1708887600@www.peifo.de
SUMMARY:Jugendgottesdient für Firmlinge und Jugendliche
DESCRIPTION:Am Sonntag\, 25. Februar um 19 Uhr mit dem Titel „Here I am“ in der Basilika in Altenstadt. Wir laden alle Firmlinge\, ehemaligen Firmlinge und Eltern der Firmlinge des Dekanats Weilheim-Schongau zu einem ganz besonders gestalteten Gottesdienst am Sonntag\, 25.02.2024 um 19 Uhr in die Kirche nach Altenstadt ein! Es erwarten euch eine tolle Band\, eine besonders beleuchtete Kirche\, der Diözesanjugendpfarrer Tobias Wolf und ein engagiertes Vorbereitungsteam aus verschiedenen Pfarreien. Bei Fragen könnt ihr euch bei Angelika Feistl melden.(angelika.feistl@bistum augsburg.de) \nMitfahrgelegenheit besteht um 18.00 Uhr am Parkplatz des Pfarrheimes St. Barbara. Dazu ist eine Anmeldung wegen der Anzahl der Fahr-Plätze im Pfarrbüro Peißenberg erforderlich.
URL:https://www.peifo.de/event/jugendgottesdient-fuer-firmlinge-und-jugendliche/
LOCATION:Basilika in Altenstadt
CATEGORIES:PG-übergreifend
END:VEVENT
BEGIN:VEVENT
DTSTART;TZID=Europe/Berlin:20240227T143000
DTEND;TZID=Europe/Berlin:20240227T143000
DTSTAMP:20260424T172500
CREATED:20240216T101937Z
LAST-MODIFIED:20240216T101937Z
UID:13899-1709044200-1709044200@www.peifo.de
SUMMARY:Frauengesprächskreis Thema: „Ich denke – wer denkt mich?“
DESCRIPTION:
URL:https://www.peifo.de/event/frauengespraechskreis-thema-ich-denke-wer-denkt-mich/
LOCATION:Pfarrheim St. Johann
CATEGORIES:PG-übergreifend
ATTACH;FMTTYPE=image/gif:https://www.peifo.de/wp-content/uploads/2019/08/FrauengesprLogo.gif
END:VEVENT
BEGIN:VEVENT
DTSTART;TZID=Europe/Berlin:20240227T180000
DTEND;TZID=Europe/Berlin:20240227T180000
DTSTAMP:20260424T172500
CREATED:20240216T102132Z
LAST-MODIFIED:20240216T102132Z
UID:13902-1709056800-1709056800@www.peifo.de
SUMMARY:Exerzitien im Alltag
DESCRIPTION:
URL:https://www.peifo.de/event/exerzitien-im-alltag-14/
LOCATION:Pfarrheim St. Barbara\, Hans-Böckler-Str. 3\, Peißenberg\, 82380
CATEGORIES:PG-übergreifend
ATTACH;FMTTYPE=image/png:https://www.peifo.de/wp-content/uploads/2019/11/Ökumene-Peißenberg.png
END:VEVENT
END:VCALENDAR