BEGIN:VCALENDAR
VERSION:2.0
PRODID:-//Pfarreiengemeinschaft Peissenberg-Forst - ECPv6.15.20//NONSGML v1.0//EN
CALSCALE:GREGORIAN
METHOD:PUBLISH
X-ORIGINAL-URL:https://www.peifo.de
X-WR-CALDESC:Veranstaltungen für Pfarreiengemeinschaft Peissenberg-Forst
REFRESH-INTERVAL;VALUE=DURATION:PT1H
X-Robots-Tag:noindex
X-PUBLISHED-TTL:PT1H
BEGIN:VTIMEZONE
TZID:Europe/Berlin
BEGIN:DAYLIGHT
TZOFFSETFROM:+0100
TZOFFSETTO:+0200
TZNAME:CEST
DTSTART:20230326T010000
END:DAYLIGHT
BEGIN:STANDARD
TZOFFSETFROM:+0200
TZOFFSETTO:+0100
TZNAME:CET
DTSTART:20231029T010000
END:STANDARD
BEGIN:DAYLIGHT
TZOFFSETFROM:+0100
TZOFFSETTO:+0200
TZNAME:CEST
DTSTART:20240331T010000
END:DAYLIGHT
BEGIN:STANDARD
TZOFFSETFROM:+0200
TZOFFSETTO:+0100
TZNAME:CET
DTSTART:20241027T010000
END:STANDARD
BEGIN:DAYLIGHT
TZOFFSETFROM:+0100
TZOFFSETTO:+0200
TZNAME:CEST
DTSTART:20250330T010000
END:DAYLIGHT
BEGIN:STANDARD
TZOFFSETFROM:+0200
TZOFFSETTO:+0100
TZNAME:CET
DTSTART:20251026T010000
END:STANDARD
END:VTIMEZONE
BEGIN:VEVENT
DTSTART;TZID=Europe/Berlin:20240502T150000
DTEND;TZID=Europe/Berlin:20240502T150000
DTSTAMP:20260424T215442
CREATED:20240411T090105Z
LAST-MODIFIED:20240411T090105Z
UID:14218-1714662000-1714662000@www.peifo.de
SUMMARY:Frauenbund SJ: Handarbeitstreff im Pfarrheim
DESCRIPTION:
URL:https://www.peifo.de/event/frauenbund-sj-handarbeitstreff-im-pfarrheim-2/
LOCATION:Pfarrheim St. Johann
CATEGORIES:PG-übergreifend
END:VEVENT
BEGIN:VEVENT
DTSTART;TZID=Europe/Berlin:20240505T190000
DTEND;TZID=Europe/Berlin:20240505T190000
DTSTAMP:20260424T215442
CREATED:20240426T110734Z
LAST-MODIFIED:20240426T110734Z
UID:14333-1714935600-1714935600@www.peifo.de
SUMMARY:Wortgottesfeier zum Ulrichsjahr "Mit dem Ohr des Herzens"
DESCRIPTION:
URL:https://www.peifo.de/event/wortgottesfeier-zum-ulrichsjahr-mit-dem-ohr-des-herzens/
LOCATION:Kirche St. Johann\, Hauptstraße 7\, Peißenberg\, 82380\, Deutschland
CATEGORIES:PG-übergreifend
ATTACH;FMTTYPE=image/png:https://www.peifo.de/wp-content/uploads/2019/09/adlibitum.png
END:VEVENT
BEGIN:VEVENT
DTSTART;VALUE=DATE:20240506
DTEND;VALUE=DATE:20240507
DTSTAMP:20260424T215442
CREATED:20240216T103042Z
LAST-MODIFIED:20240216T103042Z
UID:13914-1714953600-1715039999@www.peifo.de
SUMMARY:Seniorenwallfahrt nach Augsburg
DESCRIPTION:„Mit dem Ohr des Herzens“ – so lautet das Thema der diesjährigen Seniorenwallfahrt am Montag\, 06.05.2024\, welche von der Diözesan Altenseelsorge angeboten wird. Flyer dazu liegen in den Kirchen auf. Anmeldungen bis Mitte März bei Frau Olga-Maria Brand (Tel: 08803/3170).
URL:https://www.peifo.de/event/seniorenwallfahrt-nach-augsburg/
LOCATION:Augsburg
CATEGORIES:PG-übergreifend
END:VEVENT
BEGIN:VEVENT
DTSTART;TZID=Europe/Berlin:20240506T190000
DTEND;TZID=Europe/Berlin:20240506T203000
DTSTAMP:20260424T215442
CREATED:20240504T112040Z
LAST-MODIFIED:20240504T112120Z
UID:14388-1715022000-1715027400@www.peifo.de
SUMMARY:Sternbittgang zur Knappenkapelle
DESCRIPTION:Am Montag\, 6. Mai findet bei gutem Wetter ein Sternbittgang zur Knappenkapelle statt. Treffpunkte dafür sind um 19.00 Uhr die Kuppe an der Habergasse und der Moosleiten-Parkplatz. Am Mittwoch 8. Mai geht ein Bittgang nach Maria Aich. Treffpunkt dafür ist um 19.00 Uhr die Leichenhalle im Peißenberger Friedhof. \nAnschließend an beide Bittgänge wird eine Hl.Messe gefeiert.
URL:https://www.peifo.de/event/sternbittgang-zur-knappenkapelle/
LOCATION:Moosleitenparkplatz
ATTACH;FMTTYPE=image/jpeg:https://www.peifo.de/wp-content/uploads/2019/12/Knappenkapelle.jpg
END:VEVENT
BEGIN:VEVENT
DTSTART;TZID=Europe/Berlin:20240508T190000
DTEND;TZID=Europe/Berlin:20240508T203000
DTSTAMP:20260424T215442
CREATED:20240504T112408Z
LAST-MODIFIED:20240504T112548Z
UID:14392-1715194800-1715200200@www.peifo.de
SUMMARY:Bittgang nach Maria Aich
DESCRIPTION:Am Mittwoch 8. Mai geht ein Bittgang nach Maria Aich. Treffpunkt dafür ist um 19.00 Uhr die Leichenhalle im Peißenberger Friedhof. \nAnschließend wird eine Hl.Messe gefeiert.
URL:https://www.peifo.de/event/bittgang-nach-maria-aich/
LOCATION:Peißenberger Friedhof
ATTACH;FMTTYPE=image/jpeg:https://www.peifo.de/wp-content/uploads/2019/08/3.jpg
END:VEVENT
BEGIN:VEVENT
DTSTART;TZID=Europe/Berlin:20240508T200000
DTEND;TZID=Europe/Berlin:20240508T220000
DTSTAMP:20260424T215442
CREATED:20240504T105734Z
LAST-MODIFIED:20240504T105839Z
UID:14373-1715198400-1715205600@www.peifo.de
SUMMARY:Bibelgruppe trifft sich
DESCRIPTION:im Pfarrheim St. Barbara \nBild: Klaus Kegebein\nIn: Pfarrbriefservice.de
URL:https://www.peifo.de/event/bibelgruppe-trifft-sich/
LOCATION:Pfarrheim St. Barbara\, Hans-Böckler-Str. 3\, Peißenberg\, 82380
ATTACH;FMTTYPE=image/png:https://www.peifo.de/wp-content/uploads/2019/08/bucher-kirche_by_klaus_kegebein_pfarrbriefservice-e1565728721621.png
END:VEVENT
BEGIN:VEVENT
DTSTART;TZID=Europe/Berlin:20240509T103000
DTEND;TZID=Europe/Berlin:20240509T120000
DTSTAMP:20260424T215442
CREATED:20240504T113051Z
LAST-MODIFIED:20240504T144156Z
UID:14397-1715250600-1715256000@www.peifo.de
SUMMARY:Steh-Cafe auf dem Kirchplatz - Kuchenverkauf zugunsten des Gabentisches
DESCRIPTION:Am Donnerstag\, 9. Mai – Christi Himmelfahrt – werden von Firmlingen aus Peißenberg nach dem Gottesdienst um 10.30 Uhr in St. Barbara Kuchen zugunsten des Gabentisches verkauft – gleichzeitig wird zu einem Steh-Cafe auf dem Kirchplatz eingeladen. \n  \nFoto: Pixabay.com
URL:https://www.peifo.de/event/steh-cafe-auf-dem-kirchplatz-kuchenverkauf-zugunsten-des-gabentisches/
ATTACH;FMTTYPE=image/jpeg:https://www.peifo.de/wp-content/uploads/2024/05/coffee-8184177_by_Ralf1403_pixabay_pbs.jpg
END:VEVENT
BEGIN:VEVENT
DTSTART;TZID=Europe/Berlin:20240511T180000
DTEND;TZID=Europe/Berlin:20240511T220000
DTSTAMP:20260424T215442
CREATED:20240504T110004Z
LAST-MODIFIED:20240504T110004Z
UID:14376-1715450400-1715464800@www.peifo.de
SUMMARY:Kolpingjugend: Kicker-Turnier
DESCRIPTION:im Pfarrheim St. Johann
URL:https://www.peifo.de/event/kolpingjugend-kicker-turnier/
LOCATION:Pfarrheim St. Johann
END:VEVENT
BEGIN:VEVENT
DTSTART;TZID=Europe/Berlin:20240516T143000
DTEND;TZID=Europe/Berlin:20240516T143000
DTSTAMP:20260424T215442
CREATED:20240426T111349Z
LAST-MODIFIED:20240426T111349Z
UID:14337-1715869800-1715869800@www.peifo.de
SUMMARY:Fröhliches Singen beim Seniorennachmittag
DESCRIPTION:
URL:https://www.peifo.de/event/froehliches-singen-beim-seniorennachmittag/
LOCATION:Pfarrheim St. Barbara\, Hans-Böckler-Str. 3\, Peißenberg\, 82380
CATEGORIES:PG-übergreifend
ATTACH;FMTTYPE=image/jpeg:https://www.peifo.de/wp-content/uploads/2022/09/6395_kinderchor_noten_farbig-e1662199801785.jpg
END:VEVENT
BEGIN:VEVENT
DTSTART;TZID=Europe/Berlin:20240517T190000
DTEND;TZID=Europe/Berlin:20240517T203000
DTSTAMP:20260424T215442
CREATED:20240504T110159Z
LAST-MODIFIED:20240504T110159Z
UID:14379-1715972400-1715977800@www.peifo.de
SUMMARY:Meditativer Tanz
DESCRIPTION:im Pfarrheim St. Barbara
URL:https://www.peifo.de/event/meditativer-tanz-3/
LOCATION:Pfarrheim St. Barbara\, Hans-Böckler-Str. 3\, Peißenberg\, 82380
END:VEVENT
BEGIN:VEVENT
DTSTART;TZID=Europe/Berlin:20240519T190000
DTEND;TZID=Europe/Berlin:20240519T190000
DTSTAMP:20260424T215442
CREATED:20240510T104726Z
LAST-MODIFIED:20240510T104823Z
UID:14405-1716145200-1716145200@www.peifo.de
SUMMARY:Feierliche Vesper am Pfingstsonntag
DESCRIPTION:Neben den gewohnten Gottesdiensten findet am Pfingstsonntag\, 19.Mai um 19.00 Uhr in St. Johann eine feierliche Vesper statt.
URL:https://www.peifo.de/event/feierliche-vesper-am-pfingstsonntag/
LOCATION:Kirche St. Johann\, Hauptstraße 7\, Peißenberg\, 82380\, Deutschland
CATEGORIES:PG-übergreifend
END:VEVENT
BEGIN:VEVENT
DTSTART;TZID=Europe/Berlin:20240520T103000
DTEND;TZID=Europe/Berlin:20240520T103000
DTSTAMP:20260424T215442
CREATED:20240515T074514Z
LAST-MODIFIED:20240515T074911Z
UID:14417-1716201000-1716201000@www.peifo.de
SUMMARY:Messe am Eberlhof
DESCRIPTION:Am Pfingstmontag\, 20. Mai findet\, bei gutem Wetter\, um 10.30 Uhr eine Hl. Messe am Eberlhof statt\, die von der Knappschaftskapelle umrahmt wird. Falls das Wetter diese Feldmesse nicht zulässt\, wird um 10.30 Uhr in St. Barbara der Gottesdienst gefeiert.
URL:https://www.peifo.de/event/messe-am-eberlhof/
LOCATION:Eberlhof
CATEGORIES:PG-übergreifend
END:VEVENT
BEGIN:VEVENT
DTSTART;TZID=Europe/Berlin:20240528T143000
DTEND;TZID=Europe/Berlin:20240528T143000
DTSTAMP:20260424T215442
CREATED:20240517T074108Z
LAST-MODIFIED:20240517T075140Z
UID:14433-1716906600-1716906600@www.peifo.de
SUMMARY:Frauengesprächskreis im Pfarrgarten Thema: „Weisheit des Alters – Altersweisheit“
DESCRIPTION:
URL:https://www.peifo.de/event/frauengespraechskreis-im-pfarrgarten-thema-weisheit-des-alters-altersweisheit/
LOCATION:Pfarrgarten St. Johann
CATEGORIES:PG-übergreifend
END:VEVENT
BEGIN:VEVENT
DTSTART;TZID=Europe/Berlin:20240530T084500
DTEND;TZID=Europe/Berlin:20240530T084500
DTSTAMP:20260424T215442
CREATED:20240517T073934Z
LAST-MODIFIED:20240525T060809Z
UID:14430-1717058700-1717058700@www.peifo.de
SUMMARY:Fronleichnam in Peißenberg
DESCRIPTION:Am Donnerstag\, 30.05.2024\, feiern wir in St. Barbara das Fronleichnamsfest. Um 08.45 Uhr ist ein feierliches Hochamt und im Anschluss die Fronleichnamsprozession (bei schlechtem Wetter eucharistische Andacht in der Kirche). Nach dem liturgischen Teil gibt es einen Frühschoppen mit Imbiss und Getränken im Pfarrheim St. Barbara. Dazu herzliche Einladung!
URL:https://www.peifo.de/event/fronleichnam-2024/
LOCATION:Kirche St. Barbara
CATEGORIES:PG-übergreifend
ATTACH;FMTTYPE=image/jpeg:https://www.peifo.de/wp-content/uploads/2023/06/Favorit-von-Fronleichnam-Pbg-08.06.2023-06-von-25.jpeg
END:VEVENT
END:VCALENDAR