BEGIN:VCALENDAR
VERSION:2.0
PRODID:-//Pfarreiengemeinschaft Peissenberg-Forst - ECPv6.15.20//NONSGML v1.0//EN
CALSCALE:GREGORIAN
METHOD:PUBLISH
X-ORIGINAL-URL:https://www.peifo.de
X-WR-CALDESC:Veranstaltungen für Pfarreiengemeinschaft Peissenberg-Forst
REFRESH-INTERVAL;VALUE=DURATION:PT1H
X-Robots-Tag:noindex
X-PUBLISHED-TTL:PT1H
BEGIN:VTIMEZONE
TZID:Europe/Berlin
BEGIN:DAYLIGHT
TZOFFSETFROM:+0100
TZOFFSETTO:+0200
TZNAME:CEST
DTSTART:20230326T010000
END:DAYLIGHT
BEGIN:STANDARD
TZOFFSETFROM:+0200
TZOFFSETTO:+0100
TZNAME:CET
DTSTART:20231029T010000
END:STANDARD
BEGIN:DAYLIGHT
TZOFFSETFROM:+0100
TZOFFSETTO:+0200
TZNAME:CEST
DTSTART:20240331T010000
END:DAYLIGHT
BEGIN:STANDARD
TZOFFSETFROM:+0200
TZOFFSETTO:+0100
TZNAME:CET
DTSTART:20241027T010000
END:STANDARD
BEGIN:DAYLIGHT
TZOFFSETFROM:+0100
TZOFFSETTO:+0200
TZNAME:CEST
DTSTART:20250330T010000
END:DAYLIGHT
BEGIN:STANDARD
TZOFFSETFROM:+0200
TZOFFSETTO:+0100
TZNAME:CET
DTSTART:20251026T010000
END:STANDARD
END:VTIMEZONE
BEGIN:VEVENT
DTSTART;TZID=Europe/Berlin:20240602T091500
DTEND;TZID=Europe/Berlin:20240602T170000
DTSTAMP:20260424T231155
CREATED:20240525T055456Z
LAST-MODIFIED:20240525T055547Z
UID:14472-1717319700-1717347600@www.peifo.de
SUMMARY:Fronleichnam in Forst
DESCRIPTION:Am Sonntag\, 2. Juni wird in Forst/St. Leonhard das Fronleichnams-Fest gefeiert: 9.15 Uhr ist ein feierlicher Gottesdienst mit anschließender Prozession durch Forst.\nAlle Pfarrangehörigen sind dazu recht herzlich eingeladen.
URL:https://www.peifo.de/event/fronleichnam-in-forst/
LOCATION:Kirche St. Leonhard/Forst
CATEGORIES:PG-übergreifend
ATTACH;FMTTYPE=image/jpeg:https://www.peifo.de/wp-content/uploads/2020/06/bild_fronl.jpg
END:VEVENT
BEGIN:VEVENT
DTSTART;TZID=Europe/Berlin:20240604T190000
DTEND;TZID=Europe/Berlin:20240604T190000
DTSTAMP:20260424T231155
CREATED:20240517T074244Z
LAST-MODIFIED:20240517T075042Z
UID:14436-1717527600-1717527600@www.peifo.de
SUMMARY:Frauenbund SJ: Ausschuss-Sitzung im Pfarrheim
DESCRIPTION:
URL:https://www.peifo.de/event/frauenbund-sj-ausschuss-sitzung-im-pfarrheim/
LOCATION:Pfarrheim St. Johann
CATEGORIES:PG-übergreifend
END:VEVENT
BEGIN:VEVENT
DTSTART;TZID=Europe/Berlin:20240606T150000
DTEND;TZID=Europe/Berlin:20240606T150000
DTSTAMP:20260424T231155
CREATED:20240517T074406Z
LAST-MODIFIED:20240517T074526Z
UID:14439-1717686000-1717686000@www.peifo.de
SUMMARY:Frauenbund SJ: Handarbeitstreff im Pfarrheim
DESCRIPTION:
URL:https://www.peifo.de/event/frauenbund-sj-handarbeitstreff-im-pfarrheim-3/
LOCATION:Pfarrheim St. Johann
END:VEVENT
BEGIN:VEVENT
DTSTART;TZID=Europe/Berlin:20240608T170000
DTEND;TZID=Europe/Berlin:20240608T180000
DTSTAMP:20260424T231155
CREATED:20240601T100909Z
LAST-MODIFIED:20240601T101023Z
UID:14512-1717866000-1717869600@www.peifo.de
SUMMARY:Kinderkirche zum Thema Maria
DESCRIPTION:
URL:https://www.peifo.de/event/kinderkirche-in-maria-aich-zum-thema-maria/
LOCATION:Kirche Maria Aich
END:VEVENT
BEGIN:VEVENT
DTSTART;TZID=Europe/Berlin:20240609T140000
DTEND;TZID=Europe/Berlin:20240609T140000
DTSTAMP:20260424T231155
CREATED:20240525T061630Z
LAST-MODIFIED:20240609T100310Z
UID:14486-1717941600-1717941600@www.peifo.de
SUMMARY:Familien-Radl-Wallfahrt - FÄLLT AUS!
DESCRIPTION:Die geplante Familenradlwallfahrt am Sonntag muss leider auf Grund der nicht absehbaren Gewittertätigkeit verschoben werden. Über einen neuen Termin (voraussichtlich im Herbst) wird gesondert informiert.
URL:https://www.peifo.de/event/familien-radl-wallfahrt/
LOCATION:Kirche Maria Aich
CATEGORIES:PG-übergreifend
END:VEVENT
BEGIN:VEVENT
DTSTART;TZID=Europe/Berlin:20240612T140000
DTEND;TZID=Europe/Berlin:20240612T170000
DTSTAMP:20260424T231155
CREATED:20240608T175556Z
LAST-MODIFIED:20240608T175637Z
UID:14558-1718200800-1718211600@www.peifo.de
SUMMARY:Frauenbund St. Johann: Sommer-Cafe
DESCRIPTION:im Pfarrheim St. Johann
URL:https://www.peifo.de/event/frauenbund-sj-sommer-cafe/
LOCATION:Pfarrheim St. Johann
CATEGORIES:PG-übergreifend
END:VEVENT
BEGIN:VEVENT
DTSTART;TZID=Europe/Berlin:20240612T200000
DTEND;TZID=Europe/Berlin:20240612T220000
DTSTAMP:20260424T231155
CREATED:20240608T171309Z
LAST-MODIFIED:20240608T171309Z
UID:14525-1718222400-1718229600@www.peifo.de
SUMMARY:Bibelkreis
DESCRIPTION:Am Mittwoch\, 12.Juni trifft sich um 20.00 Uhr der Bibelkreis der Pfarreiengemeinschaft im Pfarrheim von \nSt. Barbara. Alle Interessierten sind dazu herzlich eingeladen.
URL:https://www.peifo.de/event/bibelkreis-4/
CATEGORIES:PG-übergreifend
END:VEVENT
BEGIN:VEVENT
DTSTART;TZID=Europe/Berlin:20240613T143000
DTEND;TZID=Europe/Berlin:20240613T170000
DTSTAMP:20260424T231155
CREATED:20240608T171432Z
LAST-MODIFIED:20240608T171458Z
UID:14528-1718289000-1718298000@www.peifo.de
SUMMARY:Seniorennachmittag: "St. Brevin"
DESCRIPTION:Am Donnerstag\, 13. Juni sind alle Senioren wieder zu einem geselligen Nachmittag ins Pfarrheim St. Barbara eingeladen. Beginn ist um 14.30 Uhr und es werden Bilder der französischen Partnerstadt St. Brevin gezeigt.
URL:https://www.peifo.de/event/14528/
END:VEVENT
BEGIN:VEVENT
DTSTART;TZID=Europe/Berlin:20240613T200000
DTEND;TZID=Europe/Berlin:20240613T220000
DTSTAMP:20260424T231155
CREATED:20240608T173659Z
LAST-MODIFIED:20240608T174849Z
UID:14523-1718308800-1718316000@www.peifo.de
SUMMARY:Einladung zur Infoveranstaltung: auf dem Weg in eine „neue Kultur des achtsamen Miteinanders“.
DESCRIPTION:Ein achtsamer und respektvoller Umgang mit sich selbst und untereinander ist eine Grundhaltung\, die Voraussetzung für eine gelungene Prävention sexualisierter Gewalt ist. Kirche als Ort\, an dem sich viele unterschiedliche Menschen im Glauben begegnen\, soll ein Schutz- und Kompetenzort sein. Die Deutsche Bischofskonferenz hat die Bistümer beauftragt\, für jeden Rechtsträger ein Institutionelles Schutzkonzept (ISK) zu erstellen. Ein ISK ist die Bündelung aller Maßnahmen und Überlegungen einer Pfarrei oder Pfarreiengemeinschaft\, die (sexualisierte) Gewalt verhindern sollen. Dadurch wird klar Stellung bezogen: Wir stehen für ein achtsames Miteinander\, das von Wertschätzung und Respekt geprägt ist. Wir setzen uns gezielt und überlegt gegen alle Formen von (sexualisierter) Gewalt ein. Im Institutionellen Schutzkonzept werden konkrete Schritte festgehalten\, um die Pfarrei/ Pfarreiengemeinschaft zu einem sicheren Ort zu machen bzw. sie als solchen zu erhalten. Wenn Sie bei der Erstellung eines Institutionellem Schutzkonzept in unserer PG mitarbeiten möchten\, dann melden Sie sich gerne im Pfarrbüro unter pg.peissenberg∂bistum-augsburg.de oder 08803/3654 oder kommen Sie zu unserem Infoabend am Donnerstag\, 13.06.2024 von 20.00 Uhr bis ca. 22.00 Uhr ins Pfarrheim St. Barbara\, Hans-Böckler-Str. 3\, 82380 Peißenberg.\n \nMiteinander ACHTSAM – Aushang\nISK-Infoblatt Erklärungen
URL:https://www.peifo.de/event/einladung-zur-infoveranstaltung/
LOCATION:Pfarrheim St. Barbara\, Hans-Böckler-Str. 3\, Peißenberg\, 82380
END:VEVENT
BEGIN:VEVENT
DTSTART;TZID=Europe/Berlin:20240616T103000
DTEND;TZID=Europe/Berlin:20240616T120000
DTSTAMP:20260424T231155
CREATED:20240608T171948Z
LAST-MODIFIED:20240608T171948Z
UID:14535-1718533800-1718539200@www.peifo.de
SUMMARY:Pfarrer Hubert Mößmer aus Kenia feiert bei uns den Gottesdienst mit
DESCRIPTION:Einen besonderen Besuch erwartet die Pfarreiengemeinschaft Peißenberg/Forst am Sonntag\, 16.Juni um 10.30 Uhr in St. Barbara: Pfarrer Hubert Mößmer aus unserer Partnerpfarrei North Horr in Kenia wird diesen Gottesdienst mitfeiern und über seine Arbeit in Kenia berichten. Teile der Sternsinger-Aktion-Spenden gehen ja immer wieder an diese Missions-Station. Im Anschluss an den Gottesdienst gibt es ein Kirchen-Cafe auf dem Kirchplatz.
URL:https://www.peifo.de/event/pfarrer-hubert-moessmer-aus-kenia-feiert-bei-uns-den-gottesdienst-mit/
LOCATION:Kirche St. Barbara
END:VEVENT
BEGIN:VEVENT
DTSTART;TZID=Europe/Berlin:20240621T190000
DTEND;TZID=Europe/Berlin:20240621T200000
DTSTAMP:20260424T231155
CREATED:20240608T181603Z
LAST-MODIFIED:20240608T181622Z
UID:14562-1718996400-1719000000@www.peifo.de
SUMMARY:Meditativer Tanz
DESCRIPTION:im Pfarrheim St. Barbara
URL:https://www.peifo.de/event/meditativer-tanz-4/
LOCATION:Pfarrheim St. Barbara\, Hans-Böckler-Str. 3\, Peißenberg\, 82380
END:VEVENT
BEGIN:VEVENT
DTSTART;TZID=Europe/Berlin:20240621T203000
DTEND;TZID=Europe/Berlin:20240621T213000
DTSTAMP:20260424T231155
CREATED:20240608T172256Z
LAST-MODIFIED:20240608T173448Z
UID:14538-1719001800-1719005400@www.peifo.de
SUMMARY:Ökumenisches Friedensgebet am Lagerfeuer im Pfarrgarten mit Querbeet
DESCRIPTION:Das nächste „Ökumenische Friedensgebet“ findet am Freitag\, 21. Juni um 20.30 Uhr im Pfarrgarten von St. Johann statt. Dort wird es – bei hoffentlich gutem und sicherem Wetter– an einem Lagerfeuer stattfinden. Dazu sind vor allem die interessierten Jugendlichen aus Peißenberg und alle „Junggebliebenen“ recht herzlich eingeladen. \nDie musikalische Umrahmung übernimmt die Gruppe Querbeet. \nBei schlechtem Wetter wird das Gebet zur selben Uhrzeit in die Kirche St. Johann/Taufbecken verlegt. \n  \nPlakat Friedensgebet (hier klicken zum Anzeigen!)
URL:https://www.peifo.de/event/oekumenisches-friedensgebet-am-lagerfeuer-im-pfarrgarten-mit-querbeet/
END:VEVENT
BEGIN:VEVENT
DTSTART;TZID=Europe/Berlin:20240625T143000
DTEND;TZID=Europe/Berlin:20240625T170000
DTSTAMP:20260424T231155
CREATED:20240608T181717Z
LAST-MODIFIED:20240608T181717Z
UID:14565-1719325800-1719334800@www.peifo.de
SUMMARY:Frauengesprächskreis
DESCRIPTION:im Pfarrgarten St. Johann
URL:https://www.peifo.de/event/frauengespraechskreis-2/
LOCATION:Pfarrgarten St. Johann
END:VEVENT
BEGIN:VEVENT
DTSTART;TZID=Europe/Berlin:20240628T190000
DTEND;TZID=Europe/Berlin:20240628T200000
DTSTAMP:20260424T231155
CREATED:20240615T133715Z
LAST-MODIFIED:20240615T133715Z
UID:14592-1719601200-1719604800@www.peifo.de
SUMMARY:Einladung der Gruppe Weitblick: "So mittendrin"
DESCRIPTION:Wir sind in der Mitte des Jahres angekommen\, die Natur ist voller Leben und wir\nsind ein Teil von ihr.\nWir wollen gemeinsam zurückschauen auf die bereits vergangenen Monate und vorausschauen\, was uns die kommenden vielleicht noch bringen werden. Dabei betrachten wir Gottes wunderbare Schöpfung und wissen uns geborgen in seiner Hand.\nDie Gruppe Weitblick der Pfarreiengemeinschaft Peißenberg-Forst lädt herzlich zu einem besonderen Abend ein. \nam Freitag\, 28.06.2024\num 19 Uhr\nim Pfarrgarten St. Johann \nZusammen lassen wir den Abend bei einem erfrischenden Getränk und guten Gesprächen ausklingen.\nWir freuen uns auf Ihr Kommen.\nGern dürfen Sie diese Einladung auch weitergeben oder jemanden mitbringen.\nBei Regen findet die Veranstaltung im Pfarrheim St. Johann statt. \n  \n 
URL:https://www.peifo.de/event/einladung-der-gruppe-weitblick-so-mittendrin/
LOCATION:Pfarrgarten St. Johann
CATEGORIES:PG-übergreifend
END:VEVENT
BEGIN:VEVENT
DTSTART;TZID=Europe/Berlin:20240630T084500
DTEND;TZID=Europe/Berlin:20240630T084500
DTSTAMP:20260424T231155
CREATED:20240621T090210Z
LAST-MODIFIED:20240621T090653Z
UID:14615-1719737100-1719737100@www.peifo.de
SUMMARY:Patrozinium der Kirche St. Johann
DESCRIPTION:Am Sonntag\, 30. Juni feiert die Kirche St. Johann das Patrozinium. Um 8.45 Uhr wird ein Festgottesdienst mit Kirchenchor und Orchester gefeiert – anschließend gibt es ein Kirchen-Cafe vor der Kirche. Dort verkaufen Firmlinge Kaffee und Kuchen zugunsten des Peißenberger Gabentisches. Am Abend findet um 19.30 Uhr in der Kirche St. Johann ein Orchester -Sommerkonzert statt.
URL:https://www.peifo.de/event/patrozinium-der-kirche-st-johann/
LOCATION:Kirche St. Johann\, Hauptstraße 7\, Peißenberg\, 82380\, Deutschland
CATEGORIES:PG-übergreifend
ATTACH;FMTTYPE=image/jpeg:https://www.peifo.de/wp-content/uploads/2019/06/13.jpg
END:VEVENT
END:VCALENDAR