BEGIN:VCALENDAR
VERSION:2.0
PRODID:-//Pfarreiengemeinschaft Peissenberg-Forst - ECPv6.15.20//NONSGML v1.0//EN
CALSCALE:GREGORIAN
METHOD:PUBLISH
X-WR-CALNAME:Pfarreiengemeinschaft Peissenberg-Forst
X-ORIGINAL-URL:https://www.peifo.de
X-WR-CALDESC:Veranstaltungen für Pfarreiengemeinschaft Peissenberg-Forst
REFRESH-INTERVAL;VALUE=DURATION:PT1H
X-Robots-Tag:noindex
X-PUBLISHED-TTL:PT1H
BEGIN:VTIMEZONE
TZID:Europe/Berlin
BEGIN:DAYLIGHT
TZOFFSETFROM:+0100
TZOFFSETTO:+0200
TZNAME:CEST
DTSTART:20230326T010000
END:DAYLIGHT
BEGIN:STANDARD
TZOFFSETFROM:+0200
TZOFFSETTO:+0100
TZNAME:CET
DTSTART:20231029T010000
END:STANDARD
BEGIN:DAYLIGHT
TZOFFSETFROM:+0100
TZOFFSETTO:+0200
TZNAME:CEST
DTSTART:20240331T010000
END:DAYLIGHT
BEGIN:STANDARD
TZOFFSETFROM:+0200
TZOFFSETTO:+0100
TZNAME:CET
DTSTART:20241027T010000
END:STANDARD
BEGIN:DAYLIGHT
TZOFFSETFROM:+0100
TZOFFSETTO:+0200
TZNAME:CEST
DTSTART:20250330T010000
END:DAYLIGHT
BEGIN:STANDARD
TZOFFSETFROM:+0200
TZOFFSETTO:+0100
TZNAME:CET
DTSTART:20251026T010000
END:STANDARD
END:VTIMEZONE
BEGIN:VEVENT
DTSTART;VALUE=DATE:20240706
DTEND;VALUE=DATE:20240707
DTSTAMP:20260425T004143
CREATED:20231105T123836Z
LAST-MODIFIED:20240629T102128Z
UID:13143-1720224000-1720310399@www.peifo.de
SUMMARY:Wies Jugend-Wallfahrt 2024
DESCRIPTION:  \nWies Jugend-Wallfahrt mehr: \nhttps://www.bja-augsburg.de/Jugendstellen/Jugendstelle-Weilheim/WIES \n  \nAm Samstag\, 06. Juli 2024 findet die traditionelle Jugendwieswallfahrt der Region statt.\nViele Jugendliche aus den Pfarreien machen sich auf den Weg. Auch die interessierten Jugendlichen aus der PG Peißenberg/Forst sind dazu herzlich eingeladen. Ein Startpunkt für die Wallfahrt ist um 07.00 Uhr in der Kirche in Rottenbuch. Von dort geht es ca. 2 Stunden über Wildsteig zur Wieskirche. Die Forster-Zeiten entnehmen Sie bitte dem Aushang. Gegen 10.45 Uhr wird dort ein gestalteter Jugendgottesdienst gefeiert.
URL:https://www.peifo.de/event/wies-jugend-wallfahrt-2024/
LOCATION:Wies-Kirche
CATEGORIES:PG-übergreifend
END:VEVENT
BEGIN:VEVENT
DTSTART;VALUE=DATE:20240706
DTEND;VALUE=DATE:20240707
DTSTAMP:20260425T004143
CREATED:20240629T101209Z
LAST-MODIFIED:20240629T102704Z
UID:14636-1720224000-1720310399@www.peifo.de
SUMMARY:Firmung
DESCRIPTION:Am Samstag\, 6. Juli findet in St. Johann Peißenberg die Firmspendung statt. Weihbischof Dr. Anton Losinger wird 66 Jugendlichen aus unserer Pfarreiengemeinschaft die Hand auflegen und sie salben. Es wäre schön\, wenn diese Jugendlichen in den nächsten Tagen durch das Gebet der Pfarrangehörigen begleitet werden. \n  \nBild: factum.adp\nIn: Pfarrbriefservice.de
URL:https://www.peifo.de/event/firmung-2/
LOCATION:Pfarrheim St. Johann
ATTACH;FMTTYPE=image/jpeg:https://www.peifo.de/wp-content/uploads/2023/06/15727_firmung_glossy_grau_by_factum_adp_pfarrbriefservice.jpg
END:VEVENT
BEGIN:VEVENT
DTSTART;TZID=Europe/Berlin:20240706T191500
DTEND;TZID=Europe/Berlin:20240706T200000
DTSTAMP:20260425T004143
CREATED:20240629T101346Z
LAST-MODIFIED:20240629T101554Z
UID:14639-1720293300-1720296000@www.peifo.de
SUMMARY:Patrozinium Ulrichskapelle\, Paterzell - Abendmesse entfällt deshalb in St. Barbara
DESCRIPTION:Am Samstag-Abend 6. Juli wird um 19.15 Uhr in der Ulrichskapelle von Paterzell das Patrozinium gefeiert. \nDie Abendmesse um 18.30 Uhr in St. Barbara entfällt aus diesem Anlaß.
URL:https://www.peifo.de/event/patrozinium-ulrichskapelle-paterzell-abendmesse-entfaellt-in-st-barbara/
END:VEVENT
BEGIN:VEVENT
DTSTART;TZID=Europe/Berlin:20240710T200000
DTEND;TZID=Europe/Berlin:20240710T210000
DTSTAMP:20260425T004144
CREATED:20240629T102839Z
LAST-MODIFIED:20240629T102839Z
UID:14655-1720641600-1720645200@www.peifo.de
SUMMARY:Bibelgruppe
DESCRIPTION:im Pfarrheim St. Barbara
URL:https://www.peifo.de/event/bibelgruppe-30/
LOCATION:Pfarrheim St. Barbara\, Hans-Böckler-Str. 3\, Peißenberg\, 82380
END:VEVENT
BEGIN:VEVENT
DTSTART;TZID=Europe/Berlin:20240712T193000
DTEND;TZID=Europe/Berlin:20240712T200000
DTSTAMP:20260425T004144
CREATED:20240629T085116Z
LAST-MODIFIED:20240629T085116Z
UID:14631-1720812600-1720814400@www.peifo.de
SUMMARY:„Taufe – Als Gesegnete ein Segen sein“ ...
DESCRIPTION:… ist das Thema des nächsten WortKlang am Freitag\, den 12. Juli 2024 in der Pfarrkirche St. Leonhard. Beginn: 19.30 Uhr.  \nWort: Familienkreis Forst – Klang: Vocalis \nWir laden herzlich ein zur Musikalischen Andacht und freuen uns auf Euer Kommen!
URL:https://www.peifo.de/event/taufe-als-gesegnete-ein-segen-sein/
LOCATION:Pfarrkirche St. Leonard/Forst
CATEGORIES:PG-übergreifend
ATTACH;FMTTYPE=application/pdf:https://www.peifo.de/wp-content/uploads/2024/06/Wortklang-12.07.2024.pdf
END:VEVENT
BEGIN:VEVENT
DTSTART;TZID=Europe/Berlin:20240713T094500
DTEND;TZID=Europe/Berlin:20240713T210000
DTSTAMP:20260425T004144
CREATED:20240608T172845Z
LAST-MODIFIED:20240622T092037Z
UID:14541-1720863900-1720904400@www.peifo.de
SUMMARY:Männerseelsorge: Fahrt nach Augsburg mit dem Besuch der Sonderausstellung
DESCRIPTION:Die Männerseelsorge Peißenberg plant am Samstag\, 13. Juli eine Fahrt nach Augsburg mit dem Besuch der Sonderausstellung zum Hl. Bischof Ulrich und einer Sonderführung zum Thema: Was Hollywood nicht versteht: Kriegführung im Mittelalter und die Lechfeldschlacht. Wir starten um 9.45 Uhr und werden gegen 21.00 Uhr in Peißenberg zurück sein. Die Kosten für die Fahrt betragen: 25.00 Euro (Zugfahrt und Museumseintritt) – das gemeinsame Essen in Augsburg geht auf eigene Rechnung. \nWeitere Infos kann man im Pfarrbüro Peißenberg erhalten – dort ist auch die Anmeldung zur Fahrt bis 5. Juli 2024 möglich!
URL:https://www.peifo.de/event/maennerseelsorge-fahrt-nach-augsburg-mit-dem-besuch-der-sonderausstellung/
END:VEVENT
BEGIN:VEVENT
DTSTART;TZID=Europe/Berlin:20240714T103000
DTEND;TZID=Europe/Berlin:20240714T103000
DTSTAMP:20260425T004144
CREATED:20240703T091749Z
LAST-MODIFIED:20240703T091812Z
UID:14660-1720953000-1720953000@www.peifo.de
SUMMARY:Kinderkirche
DESCRIPTION:
URL:https://www.peifo.de/event/kinderkirche-8/
LOCATION:Knappenkapelle
CATEGORIES:PG-übergreifend
ATTACH;FMTTYPE=image/jpeg:https://www.peifo.de/wp-content/uploads/2019/12/Kinderkirche-e1576598832366.jpg
END:VEVENT
BEGIN:VEVENT
DTSTART;TZID=Europe/Berlin:20240714T190000
DTEND;TZID=Europe/Berlin:20240714T190000
DTSTAMP:20260425T004144
CREATED:20240705T083454Z
LAST-MODIFIED:20240705T083743Z
UID:14679-1720983600-1720983600@www.peifo.de
SUMMARY:Geistliche Angebot „30 Minuten für Gott“
DESCRIPTION:Am 14.07.2024 findet um 19.00 Uhr in Maria Aich das geistliche Angebot „30 Minuten für Gott“ statt\, musikalisch umrahmt von der Männerschola. Bei gutem Wetter gibt es danach einen kleinen Umtrunk  an der Kirche.
URL:https://www.peifo.de/event/geistliche-angebot-30-minuten-fuer-gott/
LOCATION:Kirche Maria Aich
CATEGORIES:PG-übergreifend
END:VEVENT
BEGIN:VEVENT
DTSTART;TZID=Europe/Berlin:20240721T110000
DTEND;TZID=Europe/Berlin:20240721T110000
DTSTAMP:20260425T004144
CREATED:20240619T065132Z
LAST-MODIFIED:20240619T065303Z
UID:14596-1721559600-1721559600@www.peifo.de
SUMMARY:Berggottesdient mit dem Alpenverein
DESCRIPTION:
URL:https://www.peifo.de/event/berggottesdient-mit-dem-alpenverein/
LOCATION:Am Berghof 1
CATEGORIES:PG-übergreifend
ATTACH;FMTTYPE=image/png:https://www.peifo.de/wp-content/uploads/2019/11/Ökumene-Peißenberg.png
END:VEVENT
BEGIN:VEVENT
DTSTART;TZID=Europe/Berlin:20240725T190000
DTEND;TZID=Europe/Berlin:20240725T190000
DTSTAMP:20260425T004144
CREATED:20240718T070700Z
LAST-MODIFIED:20240718T070839Z
UID:14703-1721934000-1721934000@www.peifo.de
SUMMARY:Präventionsschulung ISK im Pfarrheim
DESCRIPTION:
URL:https://www.peifo.de/event/praeventionsschulung-isk-im-pfarrheim/
LOCATION:Pfarrheim St. Barbara\, Hans-Böckler-Str. 3\, Peißenberg\, 82380
CATEGORIES:PG-übergreifend
END:VEVENT
BEGIN:VEVENT
DTSTART;TZID=Europe/Berlin:20240726T190000
DTEND;TZID=Europe/Berlin:20240726T190000
DTSTAMP:20260425T004144
CREATED:20240718T070808Z
LAST-MODIFIED:20240718T070808Z
UID:14706-1722020400-1722020400@www.peifo.de
SUMMARY:Meditativer Tanz im Pfarrheim
DESCRIPTION:
URL:https://www.peifo.de/event/meditativer-tanz-im-pfarrheim-10/
LOCATION:Pfarrheim St. Barbara\, Hans-Böckler-Str. 3\, Peißenberg\, 82380
CATEGORIES:PG-übergreifend
END:VEVENT
BEGIN:VEVENT
DTSTART;TZID=Europe/Berlin:20240728T103000
DTEND;TZID=Europe/Berlin:20240728T103000
DTSTAMP:20260425T004144
CREATED:20240718T071421Z
LAST-MODIFIED:20240718T072911Z
UID:14715-1722162600-1722162600@www.peifo.de
SUMMARY:Fahrzeugsegnung
DESCRIPTION:Am Sonntag\, 28.07.2024 werden nach dem Gottesdienst um 10.30 Uhr in St. Barbara alle Fahrzeuge auf den Parkplätzen rund um die Kirche St. Barbara gesegnet. Herzliche Einladung
URL:https://www.peifo.de/event/fahrzeugsegnung-4/
LOCATION:Kirche St. Barbara
CATEGORIES:PG-übergreifend
ATTACH;FMTTYPE=image/jpeg:https://www.peifo.de/wp-content/uploads/2021/07/Fahrzeugsegnung-scaled-e1625223119114.jpg
END:VEVENT
BEGIN:VEVENT
DTSTART;TZID=Europe/Berlin:20240730T143000
DTEND;TZID=Europe/Berlin:20240730T143000
DTSTAMP:20260425T004144
CREATED:20240718T071016Z
LAST-MODIFIED:20240718T072818Z
UID:14712-1722349800-1722349800@www.peifo.de
SUMMARY:Frauengesprächskreis im Pfarrgarten bzw. Pavillon Thema: „wunder – bar“
DESCRIPTION:
URL:https://www.peifo.de/event/frauengespraechskreis-im-pfarrgarten-bzw-pavillon-thema-wunder-bar/
LOCATION:Pfarrgarten St. Johann
CATEGORIES:PG-übergreifend
END:VEVENT
END:VCALENDAR