BEGIN:VCALENDAR
VERSION:2.0
PRODID:-//Pfarreiengemeinschaft Peissenberg-Forst - ECPv6.15.20//NONSGML v1.0//EN
CALSCALE:GREGORIAN
METHOD:PUBLISH
X-ORIGINAL-URL:https://www.peifo.de
X-WR-CALDESC:Veranstaltungen für Pfarreiengemeinschaft Peissenberg-Forst
REFRESH-INTERVAL;VALUE=DURATION:PT1H
X-Robots-Tag:noindex
X-PUBLISHED-TTL:PT1H
BEGIN:VTIMEZONE
TZID:Europe/Berlin
BEGIN:DAYLIGHT
TZOFFSETFROM:+0100
TZOFFSETTO:+0200
TZNAME:CEST
DTSTART:20230326T010000
END:DAYLIGHT
BEGIN:STANDARD
TZOFFSETFROM:+0200
TZOFFSETTO:+0100
TZNAME:CET
DTSTART:20231029T010000
END:STANDARD
BEGIN:DAYLIGHT
TZOFFSETFROM:+0100
TZOFFSETTO:+0200
TZNAME:CEST
DTSTART:20240331T010000
END:DAYLIGHT
BEGIN:STANDARD
TZOFFSETFROM:+0200
TZOFFSETTO:+0100
TZNAME:CET
DTSTART:20241027T010000
END:STANDARD
BEGIN:DAYLIGHT
TZOFFSETFROM:+0100
TZOFFSETTO:+0200
TZNAME:CEST
DTSTART:20250330T010000
END:DAYLIGHT
BEGIN:STANDARD
TZOFFSETFROM:+0200
TZOFFSETTO:+0100
TZNAME:CET
DTSTART:20251026T010000
END:STANDARD
END:VTIMEZONE
BEGIN:VEVENT
DTSTART;TZID=Europe/Berlin:20240907T110000
DTEND;TZID=Europe/Berlin:20240907T150000
DTSTAMP:20260425T035323
CREATED:20240814T103803Z
LAST-MODIFIED:20240816T151628Z
UID:14825-1725706800-1725721200@www.peifo.de
SUMMARY:Bergmess‘ am Buchenberg – „Natur ist die Kunst Gottes“
DESCRIPTION:Gottesdienst in der Natur feiern und Gott für seine Kunst danken. Aus diesem Grund lädt die PG Peißenberg-Forst am Samstag\, 07.09.2024 um 11.00 Uhr zu einem Gottesdienst auf dem Buchenberg ein. Man erreicht den Berg entweder zu Fuß oder mit der Seilbahn.\nBei Fragen können Sie sich gerne unter der Tel.-Nr 0171/5286913 melden. Es könnten ggfs. auch Fahrgemeinschaften gebildet werden. Bei schlechtem Wetter findet die Bergmesse nicht statt.
URL:https://www.peifo.de/event/bergmess-am-buchenberg-natur-ist-die-kunst-gottes/
LOCATION:Buchenberg
CATEGORIES:PG-übergreifend
END:VEVENT
BEGIN:VEVENT
DTSTART;TZID=Europe/Berlin:20240908T190000
DTEND;TZID=Europe/Berlin:20240908T200000
DTSTAMP:20260425T035323
CREATED:20240829T092939Z
LAST-MODIFIED:20240829T114516Z
UID:14873-1725822000-1725825600@www.peifo.de
SUMMARY:Musikalische Andacht\, gestaltet von "Querbeet"
DESCRIPTION:Die Pfarreiengemeinschaft Peißenberg-Forst hat sich nach dem Wunsch zu mehr Alternativangeboten zur Aufgabe gemacht\, das Programm zu erweitern. \nMit dem Angebot unserer verschiedenen Gruppen\, die sich für den Glauben\, für gute Gedanken und der Vielfalt einsetzen\, ist es uns gelungen\, unserer Repertoire bereits zu erweitern und Veranstaltungen in anderen Formen anzubieten. Unter dem Motto „Leuchtturm – sei mein Licht“ wird die Gruppe „QUERBEET“ am Sonntag\, 08.09.2024 in der schönen Maria-Aich-Kirche ein alternatives Gottesdienstangebot gestalten. In Form einer musikalischen Andacht wird sie zum Nachdenken anregen\, Impulse und Ideen mit auf den Weg geben. \nDie Pfarreiengemeinschaft Peißenberg-Forst freut sich auf eine klang- und stimmungsvolle Stunde in der Kirche Maria-Aich in Peißenberg um 19 Uhr. \n  \n 
URL:https://www.peifo.de/event/musikalische-andacht-gestaltet-von-querbeet/
LOCATION:Kirche Maria Aich
CATEGORIES:PG-übergreifend
END:VEVENT
BEGIN:VEVENT
DTSTART;TZID=Europe/Berlin:20240911T200000
DTEND;TZID=Europe/Berlin:20240911T220000
DTSTAMP:20260425T035323
CREATED:20240814T103145Z
LAST-MODIFIED:20240816T151455Z
UID:14816-1726084800-1726092000@www.peifo.de
SUMMARY:Bibelgruppe im Pfarrheim
DESCRIPTION:
URL:https://www.peifo.de/event/bibelgruppe-im-pfarrheim-6/
LOCATION:Pfarrheim St. Barbara\, Hans-Böckler-Str. 3\, Peißenberg\, 82380
CATEGORIES:PG-übergreifend
ATTACH;FMTTYPE=image/jpeg:https://www.peifo.de/wp-content/uploads/2019/10/BibelkreisIcon.jpg
END:VEVENT
BEGIN:VEVENT
DTSTART;TZID=Europe/Berlin:20240912T143000
DTEND;TZID=Europe/Berlin:20240912T173000
DTSTAMP:20260425T035323
CREATED:20240814T103317Z
LAST-MODIFIED:20240816T151435Z
UID:14819-1726151400-1726162200@www.peifo.de
SUMMARY:Seniorennachmittag im Pfarrheim mit Bilderschau „Rund um das Kloster Bonlanden“
DESCRIPTION:
URL:https://www.peifo.de/event/seniorennachmittag-im-pfarrheim-mit-bilderschau-rund-um-das-kloster-bonlanden/
LOCATION:Pfarrheim St. Barbara\, Hans-Böckler-Str. 3\, Peißenberg\, 82380
CATEGORIES:PG-übergreifend
END:VEVENT
BEGIN:VEVENT
DTSTART;TZID=Europe/Berlin:20240912T150000
DTEND;TZID=Europe/Berlin:20240912T170000
DTSTAMP:20260425T035323
CREATED:20240814T103432Z
LAST-MODIFIED:20240816T151353Z
UID:14822-1726153200-1726160400@www.peifo.de
SUMMARY:Frauenbund SJ: Handarbeitstreff im Pfarrheim
DESCRIPTION:
URL:https://www.peifo.de/event/frauenbund-sj-handarbeitstreff-im-pfarrheim-4/
LOCATION:Pfarrheim St. Johann
CATEGORIES:PG-übergreifend
END:VEVENT
BEGIN:VEVENT
DTSTART;TZID=Europe/Berlin:20240913T193000
DTEND;TZID=Europe/Berlin:20240913T203000
DTSTAMP:20260425T035323
CREATED:20240906T055823Z
LAST-MODIFIED:20240906T055823Z
UID:14887-1726255800-1726259400@www.peifo.de
SUMMARY:WortKlang - "Baustelle Kirche"
DESCRIPTION:Wir laden herzlich ein zur Musikalischen Andacht und freuen uns auf Euer Kommen. \nMusikalische Andacht zu „Baustelle Kirche“\nam Freitag\, 13.September 2024\, um 19.30 Uhr in der Pfarrkirche St. Leonhard in Forst \nWort: Familienkreis Forst\nKlang: Vocalis
URL:https://www.peifo.de/event/wortklang-baustelle-kirche/
LOCATION:Pfarrkirche St. Leonard/Forst
CATEGORIES:PG-übergreifend
ATTACH;FMTTYPE=application/pdf:https://www.peifo.de/wp-content/uploads/2024/09/Plakat.pdf
END:VEVENT
BEGIN:VEVENT
DTSTART;VALUE=DATE:20240922
DTEND;VALUE=DATE:20240923
DTSTAMP:20260425T035323
CREATED:20240914T102414Z
LAST-MODIFIED:20240914T102414Z
UID:14946-1726963200-1727049599@www.peifo.de
SUMMARY:Wieswallfahrt St. Leonhard
DESCRIPTION:Der PGR St. Leonhard lädt zur Wieswallfahrt am 22.09.2024 ALLE ganz herzlich zum gemeinsamen Mit-Gehen und Mit-Beten ein. Näheres entnehmen Sie bitte den Aushängen und Handzetteln in den Kirchen.
URL:https://www.peifo.de/event/wieswallfahrt-st-leonhard/
LOCATION:Wies-Kirche
END:VEVENT
BEGIN:VEVENT
DTSTART;TZID=Europe/Berlin:20240922T084500
DTEND;TZID=Europe/Berlin:20240922T113000
DTSTAMP:20260425T035323
CREATED:20240914T095716Z
LAST-MODIFIED:20240914T095756Z
UID:14919-1726994700-1727004600@www.peifo.de
SUMMARY:Verabschiedung und Aufnahme neuer Ministranten
DESCRIPTION:Am Sonntag\, 22. September werden in den Gottesdiensten um 8.45 Uhr in St. Johann und 10.30 Uhr in St. Barbara die ausscheidenden Ministranten verabschiedet und die neuen Minis eingeführt. \nAlle Pfarrangehörigen sind dazu recht herzlich eingeladen.
URL:https://www.peifo.de/event/ministrantenverabschiedung-und-aufnahme-neuer-ministranten/
LOCATION:Kirchen in Peißenberg
END:VEVENT
BEGIN:VEVENT
DTSTART;TZID=Europe/Berlin:20240922T140000
DTEND;TZID=Europe/Berlin:20240922T170000
DTSTAMP:20260425T035323
CREATED:20240914T095948Z
LAST-MODIFIED:20240914T104031Z
UID:14924-1727013600-1727024400@www.peifo.de
SUMMARY:Fest der Vielfalt
DESCRIPTION:Am Sonntag\, 22. September findet von 14.00 Uhr bis 17.00 Uhr an der Tiefstollenhalle in Peißenberg ein Fest der Vielfalt statt. Unsere Pfarreiengemeinschaft wird dort ebenfalls vertreten sein. \nAus diesem Anlass feiert die Gruppe „Ad Libitum“ am Sonntag-Abend um 19.00 Uhr einen Wortgottesdienst unter dem Thema: Zusammenwachsen in aller Vielfalt.
URL:https://www.peifo.de/event/fest-der-vielfalt/
LOCATION:Tiefstollenhalle\, Am Tiefstollen\, Peißenberg\, 82380\, Deutschland
END:VEVENT
BEGIN:VEVENT
DTSTART;TZID=Europe/Berlin:20240922T190000
DTEND;TZID=Europe/Berlin:20240922T200000
DTSTAMP:20260425T035323
CREATED:20240919T144233Z
LAST-MODIFIED:20240921T103012Z
UID:14974-1727031600-1727035200@www.peifo.de
SUMMARY:Zusammenwachsen - Wortgottesfeier\, musikalisch gestaltet von adlibitum in Maria Aich
DESCRIPTION:Am Sonntag\, 22. September (heute) feiert die Musikgruppe „Adlibitum“ um 19.00 Uhr in Maria Aich einen Wortgottesdienst unter dem Motto „Zusammenwachsen in aller Vielfalt“. Die Gruppe greift damit das Thema des Festes der Vielfalt auf\, das am Sonntag-Nachmittag ab 14.00 Uhr an der Tiefstollenhalle stattfindet. Zu beiden Veranstaltungen ergeht eine herzliche Einladung.
URL:https://www.peifo.de/event/zusammenwachsen-wortgottesfeier-musikalisch-gestaltet-von-adlibitum-in-maria-aich/
END:VEVENT
BEGIN:VEVENT
DTSTART;TZID=Europe/Berlin:20240924T143000
DTEND;TZID=Europe/Berlin:20240924T170000
DTSTAMP:20260425T035323
CREATED:20240914T101459Z
LAST-MODIFIED:20240914T101459Z
UID:14935-1727188200-1727197200@www.peifo.de
SUMMARY:Frauengesprächskreis: "Dem Alltag eine Seele geben"
DESCRIPTION:Frauengesprächskreis im Pavillon\,\nThema: „Dem Alltag eine Seele geben“
URL:https://www.peifo.de/event/frauengespraechskreis-dem-alltag-eine-seele-geben/
LOCATION:Pavillon
END:VEVENT
BEGIN:VEVENT
DTSTART;TZID=Europe/Berlin:20240927T190000
DTEND;TZID=Europe/Berlin:20240927T200000
DTSTAMP:20260425T035323
CREATED:20240921T101906Z
LAST-MODIFIED:20240921T101914Z
UID:15001-1727463600-1727467200@www.peifo.de
SUMMARY:Andacht im Garten der Schöpfung „Alle Bäume sollen jubeln“
DESCRIPTION:Am Freitag 27. September findet um 19.00 Uhr im Garten der Schöpfung St. Johann aus Anlass des ökumenischen Schöpfungstages eine Andacht unter dem Thema „Alle Bäume sollen jubeln“ statt. Bei schlechtem Wetter wird in die Kirche St. Johann ausgewichen.
URL:https://www.peifo.de/event/andacht-im-garten-der-schoepfung-alle-baeume-sollen-jubeln/
LOCATION:Garten der Schöpfung
END:VEVENT
BEGIN:VEVENT
DTSTART;TZID=Europe/Berlin:20240929T093000
DTEND;TZID=Europe/Berlin:20240929T103000
DTSTAMP:20260425T035323
CREATED:20240921T101015Z
LAST-MODIFIED:20240921T101420Z
UID:14991-1727602200-1727605800@www.peifo.de
SUMMARY:Gemeinschafts-Gottesdienst der Pfarreiengemeinschaft - andere Gottesdienste entfallen in Pbg.
DESCRIPTION:Am Sonntag\, 29.9 wird bereits um 9.30 Uhr in St. Barbara der jährliche Gemeinschafts-Gottesdienst der Pfarreiengemeinschaft statt. Er ist inhaltlich besonders gestaltet. Anschließend gibt es einen Stehempfang auf dem Kirchplatz.\nAlle Pfarrangehörigen sind zu diesem Gottesdienst herzlich eingeladen. \nDie anderen Gottesdienste in Peißenberg entfallen aus diesem Anlass.
URL:https://www.peifo.de/event/gemeinschafts-gottesdienst-der-pfarreiengemeinschaft-andere-gottesdienste-entfallen-in-pbg/
LOCATION:Kirche St. Barbara
END:VEVENT
BEGIN:VEVENT
DTSTART;TZID=Europe/Berlin:20240929T160000
DTEND;TZID=Europe/Berlin:20240929T170000
DTSTAMP:20260425T035323
CREATED:20240914T101629Z
LAST-MODIFIED:20240914T101734Z
UID:14938-1727625600-1727629200@www.peifo.de
SUMMARY:Volks-Chor: „Auf a Stund“
DESCRIPTION:im Pfarrheim St. Barbara
URL:https://www.peifo.de/event/volks-chor-auf-a-stund-2/
LOCATION:Pfarrheim St. Barbara\, Hans-Böckler-Str. 3\, Peißenberg\, 82380
END:VEVENT
END:VCALENDAR