BEGIN:VCALENDAR
VERSION:2.0
PRODID:-//Pfarreiengemeinschaft Peissenberg-Forst - ECPv6.15.20//NONSGML v1.0//EN
CALSCALE:GREGORIAN
METHOD:PUBLISH
X-WR-CALNAME:Pfarreiengemeinschaft Peissenberg-Forst
X-ORIGINAL-URL:https://www.peifo.de
X-WR-CALDESC:Veranstaltungen für Pfarreiengemeinschaft Peissenberg-Forst
REFRESH-INTERVAL;VALUE=DURATION:PT1H
X-Robots-Tag:noindex
X-PUBLISHED-TTL:PT1H
BEGIN:VTIMEZONE
TZID:Europe/Berlin
BEGIN:DAYLIGHT
TZOFFSETFROM:+0100
TZOFFSETTO:+0200
TZNAME:CEST
DTSTART:20240331T010000
END:DAYLIGHT
BEGIN:STANDARD
TZOFFSETFROM:+0200
TZOFFSETTO:+0100
TZNAME:CET
DTSTART:20241027T010000
END:STANDARD
BEGIN:DAYLIGHT
TZOFFSETFROM:+0100
TZOFFSETTO:+0200
TZNAME:CEST
DTSTART:20250330T010000
END:DAYLIGHT
BEGIN:STANDARD
TZOFFSETFROM:+0200
TZOFFSETTO:+0100
TZNAME:CET
DTSTART:20251026T010000
END:STANDARD
BEGIN:DAYLIGHT
TZOFFSETFROM:+0100
TZOFFSETTO:+0200
TZNAME:CEST
DTSTART:20260329T010000
END:DAYLIGHT
BEGIN:STANDARD
TZOFFSETFROM:+0200
TZOFFSETTO:+0100
TZNAME:CET
DTSTART:20261025T010000
END:STANDARD
END:VTIMEZONE
BEGIN:VEVENT
DTSTART;TZID=Europe/Berlin:20250603T191500
DTEND;TZID=Europe/Berlin:20250603T210000
DTSTAMP:20260425T180453
CREATED:20250515T121544Z
LAST-MODIFIED:20250515T121544Z
UID:16667-1748978100-1748984400@www.peifo.de
SUMMARY:Frauenbund SJ: Ausschuss-Sitzung
DESCRIPTION:
URL:https://www.peifo.de/event/frauenbund-sj-ausschuss-sitzung-2/
LOCATION:Pfarrheim St. Johann
CATEGORIES:PG-übergreifend
END:VEVENT
BEGIN:VEVENT
DTSTART;TZID=Europe/Berlin:20250604T200000
DTEND;TZID=Europe/Berlin:20250604T213000
DTSTAMP:20260425T180453
CREATED:20250104T100616Z
LAST-MODIFIED:20250104T100616Z
UID:15739-1749067200-1749072600@www.peifo.de
SUMMARY:Bibelgruppe - das Sühneopfer für die Toten
DESCRIPTION:
URL:https://www.peifo.de/event/bibelgruppe-das-suehneopfer-fuer-die-toten/
LOCATION:Pfarrheim St. Barbara\, Hans-Böckler-Str. 3\, Peißenberg\, 82380
CATEGORIES:PG-übergreifend
ATTACH;FMTTYPE=image/png:https://www.peifo.de/wp-content/uploads/2019/08/bucher-kirche_by_klaus_kegebein_pfarrbriefservice-e1565728721621.png
END:VEVENT
BEGIN:VEVENT
DTSTART;TZID=Europe/Berlin:20250605T143000
DTEND;TZID=Europe/Berlin:20250605T170000
DTSTAMP:20260425T180453
CREATED:20250515T121723Z
LAST-MODIFIED:20250515T121723Z
UID:16670-1749133800-1749142800@www.peifo.de
SUMMARY:Frauenbund SJ: Handarbeitstreff
DESCRIPTION:
URL:https://www.peifo.de/event/frauenbund-sj-handarbeitstreff-5/
LOCATION:Pfarrheim St. Johann
CATEGORIES:PG-übergreifend
END:VEVENT
BEGIN:VEVENT
DTSTART;TZID=Europe/Berlin:20250606T190000
DTEND;TZID=Europe/Berlin:20250606T200000
DTSTAMP:20260425T180453
CREATED:20250524T220423Z
LAST-MODIFIED:20250524T220718Z
UID:16697-1749236400-1749240000@www.peifo.de
SUMMARY:Gebet für Frieden und Gerechtigkeit
DESCRIPTION:Am Freitag\, den 6.Juni um 19.00\nAm Schöpfungsgarten vor der Kirche St. Johann\nBei Regen in St. Johann\nVeranstalter: evang. und kath. Kirchengemeinden Peißenberg \n  \nPlakat
URL:https://www.peifo.de/event/gebet-fuer-frieden-und-gerechtigkeit/
LOCATION:Garten der Schöpfung bei der Kirche St. Johann
ATTACH;FMTTYPE=image/png:https://www.peifo.de/wp-content/uploads/2024/11/Friedensgebet-1-25-e1740675689349.png
END:VEVENT
BEGIN:VEVENT
DTSTART;TZID=Europe/Berlin:20250612T143000
DTEND;TZID=Europe/Berlin:20250612T170000
DTSTAMP:20260425T180453
CREATED:20250606T075236Z
LAST-MODIFIED:20250606T075236Z
UID:16741-1749738600-1749747600@www.peifo.de
SUMMARY:Seniorennachmittag mit dem Bergsteigerchor
DESCRIPTION:
URL:https://www.peifo.de/event/seniorennachmittag-mit-dem-bergsteigerchor/
LOCATION:Pfarrheim St. Barbara\, Hans-Böckler-Str. 3\, Peißenberg\, 82380
CATEGORIES:PG-übergreifend
END:VEVENT
BEGIN:VEVENT
DTSTART;TZID=Europe/Berlin:20250613T193000
DTEND;TZID=Europe/Berlin:20250613T203000
DTSTAMP:20260425T180453
CREATED:20250427T153121Z
LAST-MODIFIED:20250427T153230Z
UID:16560-1749843000-1749846600@www.peifo.de
SUMMARY:"getragen von Feuer und Wind" - Musikalische Andacht Wortklang
DESCRIPTION:Zur nächsten Musikalischen Andacht Wortklang – zum Pfingstfest unter dem Motto „getragen von Feuer und Wind“ – am 13. Juni 2025 um 19.30 Uhr laden herzlich ein der Familienkreis Forst sowie Vocalis.  \nDie Andacht findet (aufgrund der Renovierung der Pfarrkirche) im Pfarrgarten (unmittelbar neben dem Eingang der Pfarrkirche St. Leonhard) statt. Bei schlechtem Wetter ist die Grundschule (ebenfalls in unmittelbarer Nähe) als Ausweichraum geplant.
URL:https://www.peifo.de/event/getragen-von-feuer-und-wind-musikalische-andacht-wortklang/
LOCATION:Pfarrgarten St. Leonhard\, St. Leonhard 14\, Forst\, 82405
CATEGORIES:PG-übergreifend
ATTACH;FMTTYPE=application/pdf:https://www.peifo.de/wp-content/uploads/2025/04/Wortklang-13.06.2025-2.pdf
END:VEVENT
BEGIN:VEVENT
DTSTART;TZID=Europe/Berlin:20250614T183000
DTEND;TZID=Europe/Berlin:20250614T193000
DTSTAMP:20260425T180453
CREATED:20250606T081652Z
LAST-MODIFIED:20250606T081652Z
UID:16770-1749925800-1749929400@www.peifo.de
SUMMARY:Patrozinium der Knappenkapelle
DESCRIPTION:Am Samstag\, 14. Juni wird um 18.30 Uhr das Patrozinium der Knappenkapelle mit einer Heiligen Messe dort gefeiert. Bei schlechtem Wetter wird der Gottesdienst in die Kirche St. Barbara verlegt.
URL:https://www.peifo.de/event/patrozinium-der-knappenkapelle/
LOCATION:Knappenkapelle
CATEGORIES:PG-übergreifend
END:VEVENT
BEGIN:VEVENT
DTSTART;TZID=Europe/Berlin:20250619T113000
DTEND;TZID=Europe/Berlin:20250619T170000
DTSTAMP:20260425T180453
CREATED:20250606T080406Z
LAST-MODIFIED:20250606T080406Z
UID:16756-1750332600-1750352400@www.peifo.de
SUMMARY:Familienfest in Forst
DESCRIPTION:Am Donnerstag\, den 19. Juni\, findet im Anschluss an das Hochfest Fronleichnam wieder in Forst Linden (bei schlechtem Wetter in der Tenne) das Familienfest des Veteranen- und Reservistenvereins Forst statt. Beginn ist ab 11.30 Uhr mit Kesselfleisch\, Grillspezialitäten und Käsespatzen. Für die musikalische Unterhaltung sorgt die Musikkapelle Forst.
URL:https://www.peifo.de/event/familienfest-in-forst-2/
LOCATION:Forst Linden
CATEGORIES:PG-übergreifend
END:VEVENT
BEGIN:VEVENT
DTSTART;TZID=Europe/Berlin:20250620T190000
DTEND;TZID=Europe/Berlin:20250620T193000
DTSTAMP:20260425T180453
CREATED:20250614T101853Z
LAST-MODIFIED:20250614T102118Z
UID:16806-1750446000-1750447800@www.peifo.de
SUMMARY:Rosenkranz für H. Herrn Pfarrer i. R. Gerhard Schmid
DESCRIPTION:Unser Herr Jesus Christus hat H. Herrn Pfarrer i. R.  \nGerhard Schmid  \n* 20.8.1933 \n† 11.6.2025  \nfür immer heimgerufen. \nDer Rosenkranz ist am Freitag\, 20.06.2025 um 19.00 Uhr. \nTodesanzeige Pfarrer i. R. Gerhard Schmid
URL:https://www.peifo.de/event/rosenkranz-fuer-h-herrn-pfarrer-i-r-gerhard-schmid/
LOCATION:Kirche St. Johann\, Hauptstraße 7\, Peißenberg\, 82380\, Deutschland
ATTACH;FMTTYPE=image/jpeg:https://www.peifo.de/wp-content/uploads/2025/06/Gerhard-Schmid.jpg
END:VEVENT
BEGIN:VEVENT
DTSTART;TZID=Europe/Berlin:20250621T093000
DTEND;TZID=Europe/Berlin:20250621T113000
DTSTAMP:20260425T180453
CREATED:20250614T101622Z
LAST-MODIFIED:20250614T102020Z
UID:16802-1750498200-1750505400@www.peifo.de
SUMMARY:Requiem mit anschließender Beerdigung H. Herrn Pfarrer i. R. Gerhard Schmid
DESCRIPTION:Unser Herr Jesus Christus hat H. Herrn Pfarrer i. R.  \nGerhard Schmid  \n* 20.8.1933 \n† 11.6.2025  \nfür immer heimgerufen. \nDas Requiem mit anschließender Beerdigung findet am Samstag\, 21.06.2025 um 9.30 Uhr in der Pfarrkirche St. Johannes Baptist\, Peißenberg\, statt. Der Rosenkranz ist am Freitag\, 20.06.2025 um 19.00 Uhr. Priester und Diakone\, die den Gottesdienst mitfeiern\, mögen selbst violette Paramente mitbringen. Umkleidemöglichkeit ist ab 8.45 Uhr im Pfarrhaus St. Johann\, Hauptstr. 7\, 82380 Peißenberg.   \nTodesanzeige Pfarrer i. R. Gerhard Schmid
URL:https://www.peifo.de/event/requiem-mit-anschliessender-beerdigung-h-herrn-pfarrer-i-r-gerhard-schmid/
LOCATION:Kirche St. Johann\, Hauptstraße 7\, Peißenberg\, 82380\, Deutschland
ATTACH;FMTTYPE=image/jpeg:https://www.peifo.de/wp-content/uploads/2025/06/Gerhard-Schmid.jpg
END:VEVENT
BEGIN:VEVENT
DTSTART;TZID=Europe/Berlin:20250625T163000
DTEND;TZID=Europe/Berlin:20250625T180000
DTSTAMP:20260425T180453
CREATED:20250606T075431Z
LAST-MODIFIED:20250606T075431Z
UID:16744-1750869000-1750874400@www.peifo.de
SUMMARY:Firmlingstreffen im Pfarrheim
DESCRIPTION:
URL:https://www.peifo.de/event/firmlingstreffen-im-pfarrheim-5/
LOCATION:Pfarrheim St. Barbara\, Hans-Böckler-Str. 3\, Peißenberg\, 82380
CATEGORIES:PG-übergreifend
END:VEVENT
BEGIN:VEVENT
DTSTART;TZID=Europe/Berlin:20250626T163000
DTEND;TZID=Europe/Berlin:20250626T180000
DTSTAMP:20260425T180453
CREATED:20250606T075534Z
LAST-MODIFIED:20250606T075534Z
UID:16747-1750955400-1750960800@www.peifo.de
SUMMARY:Firmlingstreffen im Pfarrheim
DESCRIPTION:
URL:https://www.peifo.de/event/firmlingstreffen-im-pfarrheim-6/
LOCATION:Pfarrheim St. Johann
CATEGORIES:PG-übergreifend
END:VEVENT
BEGIN:VEVENT
DTSTART;TZID=Europe/Berlin:20250629T103000
DTEND;TZID=Europe/Berlin:20250629T113000
DTSTAMP:20260425T180453
CREATED:20250618T214410Z
LAST-MODIFIED:20250618T214410Z
UID:16819-1751193000-1751196600@www.peifo.de
SUMMARY:Kinderkirche
DESCRIPTION:Thema „Wie der heilige Franziskus sehen“ \nPlakat mit weiteren Infos anzeigen/herunterladen (hier klicken!)
URL:https://www.peifo.de/event/kinderkirche-10/
LOCATION:Kirche St. Barbara
END:VEVENT
BEGIN:VEVENT
DTSTART;TZID=Europe/Berlin:20250629T190000
DTEND;TZID=Europe/Berlin:20250629T200000
DTSTAMP:20260425T180453
CREATED:20250628T093514Z
LAST-MODIFIED:20250628T093652Z
UID:16886-1751223600-1751227200@www.peifo.de
SUMMARY:Sommerkonzert in Maria Aich
DESCRIPTION:Am Sonntag 29. Juni findet um 19.00 Uhr in der Kirche Maria Aich ein Sommerkonzert vom Peißenberger Kirchenorchester statt. Auch hier zu sind alle recht herzlich eingeladen.
URL:https://www.peifo.de/event/sommerkonzert-in-maria-aich/
LOCATION:Kirche Maria Aich
ATTACH;FMTTYPE=image/jpeg:https://www.peifo.de/wp-content/uploads/2019/08/3.jpg
END:VEVENT
END:VCALENDAR